BEGIN:VCALENDAR
VERSION:2.0
PRODID:-//One City Church - ECPv6.15.19//NONSGML v1.0//EN
CALSCALE:GREGORIAN
METHOD:PUBLISH
X-WR-CALNAME:One City Church
X-ORIGINAL-URL:https://onecity.church
X-WR-CALDESC:Events for One City Church
REFRESH-INTERVAL;VALUE=DURATION:PT1H
X-Robots-Tag:noindex
X-PUBLISHED-TTL:PT1H
BEGIN:VTIMEZONE
TZID:America/Chicago
BEGIN:DAYLIGHT
TZOFFSETFROM:-0600
TZOFFSETTO:-0500
TZNAME:CDT
DTSTART:20250309T080000
END:DAYLIGHT
BEGIN:STANDARD
TZOFFSETFROM:-0500
TZOFFSETTO:-0600
TZNAME:CST
DTSTART:20251102T070000
END:STANDARD
BEGIN:DAYLIGHT
TZOFFSETFROM:-0600
TZOFFSETTO:-0500
TZNAME:CDT
DTSTART:20260308T080000
END:DAYLIGHT
BEGIN:STANDARD
TZOFFSETFROM:-0500
TZOFFSETTO:-0600
TZNAME:CST
DTSTART:20261101T070000
END:STANDARD
BEGIN:DAYLIGHT
TZOFFSETFROM:-0600
TZOFFSETTO:-0500
TZNAME:CDT
DTSTART:20270314T080000
END:DAYLIGHT
BEGIN:STANDARD
TZOFFSETFROM:-0500
TZOFFSETTO:-0600
TZNAME:CST
DTSTART:20271107T070000
END:STANDARD
END:VTIMEZONE
BEGIN:VEVENT
DTSTART;TZID=America/Chicago:20260423T180000
DTEND;TZID=America/Chicago:20260423T200000
DTSTAMP:20260424T203345
CREATED:20240606T202843Z
LAST-MODIFIED:20240815T193438Z
UID:10002354-1776967200-1776974400@onecity.church
SUMMARY:One City Recovery
DESCRIPTION:What is One City Recovery?\n\n\n\nOne City Recovery is a Christ -centered recovery community that helps you find freedom from the issues that are controlling your life. \nThrough the biblically based 12 step program of Recovery Alive\, we are allowing the power and presence of Jesus to radically change our lives and restore hope. \nYou do not have to recover alone. We have a place for you to start over. \nOne City Recovery | You belong here. \nWe meet every Thursday starting at 6pm in the One City Church Event Center.
URL:https://onecity.church/event/one-city-recovery/2026-04-23/
LOCATION:One City Event Center
CATEGORIES:Church Wide,Recovery
ATTACH;FMTTYPE=image/png:https://onecity.church/wp-content/uploads/2024/06/5x7-front.png
END:VEVENT
END:VCALENDAR