BEGIN:VCALENDAR
VERSION:2.0
PRODID:-//One City Church - ECPv6.15.19//NONSGML v1.0//EN
CALSCALE:GREGORIAN
METHOD:PUBLISH
X-WR-CALNAME:One City Church
X-ORIGINAL-URL:https://onecity.church
X-WR-CALDESC:Events for One City Church
REFRESH-INTERVAL;VALUE=DURATION:PT1H
X-Robots-Tag:noindex
X-PUBLISHED-TTL:PT1H
BEGIN:VTIMEZONE
TZID:America/Chicago
BEGIN:DAYLIGHT
TZOFFSETFROM:-0600
TZOFFSETTO:-0500
TZNAME:CDT
DTSTART:20200308T080000
END:DAYLIGHT
BEGIN:STANDARD
TZOFFSETFROM:-0500
TZOFFSETTO:-0600
TZNAME:CST
DTSTART:20201101T070000
END:STANDARD
BEGIN:DAYLIGHT
TZOFFSETFROM:-0600
TZOFFSETTO:-0500
TZNAME:CDT
DTSTART:20210314T080000
END:DAYLIGHT
BEGIN:STANDARD
TZOFFSETFROM:-0500
TZOFFSETTO:-0600
TZNAME:CST
DTSTART:20211107T070000
END:STANDARD
BEGIN:DAYLIGHT
TZOFFSETFROM:-0600
TZOFFSETTO:-0500
TZNAME:CDT
DTSTART:20220313T080000
END:DAYLIGHT
BEGIN:STANDARD
TZOFFSETFROM:-0500
TZOFFSETTO:-0600
TZNAME:CST
DTSTART:20221106T070000
END:STANDARD
BEGIN:DAYLIGHT
TZOFFSETFROM:-0600
TZOFFSETTO:-0500
TZNAME:CDT
DTSTART:20230312T080000
END:DAYLIGHT
BEGIN:STANDARD
TZOFFSETFROM:-0500
TZOFFSETTO:-0600
TZNAME:CST
DTSTART:20231105T070000
END:STANDARD
BEGIN:DAYLIGHT
TZOFFSETFROM:-0600
TZOFFSETTO:-0500
TZNAME:CDT
DTSTART:20240310T080000
END:DAYLIGHT
BEGIN:STANDARD
TZOFFSETFROM:-0500
TZOFFSETTO:-0600
TZNAME:CST
DTSTART:20241103T070000
END:STANDARD
BEGIN:DAYLIGHT
TZOFFSETFROM:-0600
TZOFFSETTO:-0500
TZNAME:CDT
DTSTART:20250309T080000
END:DAYLIGHT
BEGIN:STANDARD
TZOFFSETFROM:-0500
TZOFFSETTO:-0600
TZNAME:CST
DTSTART:20251102T070000
END:STANDARD
BEGIN:DAYLIGHT
TZOFFSETFROM:-0600
TZOFFSETTO:-0500
TZNAME:CDT
DTSTART:20260308T080000
END:DAYLIGHT
BEGIN:STANDARD
TZOFFSETFROM:-0500
TZOFFSETTO:-0600
TZNAME:CST
DTSTART:20261101T070000
END:STANDARD
END:VTIMEZONE
BEGIN:VEVENT
DTSTART;TZID=America/Chicago:20250712T090000
DTEND;TZID=America/Chicago:20250712T140000
DTSTAMP:20260424T185730
CREATED:20250422T151143Z
LAST-MODIFIED:20250422T151211Z
UID:10003070-1752310800-1752328800@onecity.church
SUMMARY:OC Women's DEEP Dive Prayer Event
DESCRIPTION:Ladies join us for a DEEP Dive Prayer Event. \nJuly 12 \nDoors will open at 8:45am we will begin at 9:00am. \nThis is a fasting event\, so ask God what he would have you fast\, if you are unable to fast food you will be able to bring a snack to eat in the Cafe. \nThis is a FREE event but we ask that you register so we know how many to prepare for. \nRegister at www.onecity.church/DEEP25 \nWear your DEEP shirts if you have one. \nIf you would like to purchase the new DEEP shirt you can do so at www.onecity.church/DEEP25 \nIf you have any questions you can call Tish at the church 409-892-8475
URL:https://onecity.church/event/10498/
LOCATION:One City Church\, 2350 Eastex Freeway\, Beaumont\, TX\, 77703\, United States
CATEGORIES:December Events,Womens Events
ATTACH;FMTTYPE=image/jpeg:https://onecity.church/wp-content/uploads/2025/03/Image-2-15-25-at-6.18 PM.jpeg
END:VEVENT
BEGIN:VEVENT
DTSTART;TZID=America/Chicago:20231126T100000
DTEND;TZID=America/Chicago:20231217T120000
DTSTAMP:20260424T185730
CREATED:20231122T184819Z
LAST-MODIFIED:20231122T184819Z
UID:10001539-1700992800-1702814400@onecity.church
SUMMARY:2023 One City Cares Giving Tree
DESCRIPTION:The One City Cares Giving Tree is dripping with opportunities for you to give back this Christmas. The first opportunity is to purchase visa gift cards for the Harvest House Angels to care for the program participants’ basic\, day to day needs. Look for the ivory tags on the Giving Tree! \nWe have also adopted a Kings Club family of 7. Just a little bit about this beautiful family…they are led by a strong single mom with 2 boys and 4 girls\, 2 of which are twins…the 8 year old little girl has cerebral palsy and will have surgery in the new year. They’ve also been moving from transitional housing to living with family after their last home had irreparable roof damage but thankfully\, they’ve just moved into a rent home. Let’s bless this family with an amazing Christmas! Look for the blue tags on the Giving Tree! \nLastly\, we are partnering with Buckner Beaumont to bless local boys and girls in and out of foster care. Look for the green tags on the Giving Tree! \nWe will be collected gifts from now until Tuesday\, Dec 12th. Please bring all gifts UNWRAPPED so we know what has come in. For more information about the Giving Tree\, contact Pastor Amy Everett at the church office 409-892-8475\, ext 2226 or email aeverett@onecity.church. \n 
URL:https://onecity.church/event/2023-one-city-cares-giving-tree/
LOCATION:One City Church\, 2350 Eastex Freeway\, Beaumont\, TX\, 77703\, United States
CATEGORIES:Church Wide,December Events,One City Cares
ATTACH;FMTTYPE=image/png:https://onecity.church/wp-content/uploads/2023/11/Simple-Christmas-Sale-Instagram-Post.png
ORGANIZER;CN="One City Church":MAILTO:info@onecity.church
END:VEVENT
BEGIN:VEVENT
DTSTART;TZID=America/Chicago:20221224T180000
DTEND;TZID=America/Chicago:20221224T190000
DTSTAMP:20260424T185730
CREATED:20221207T170049Z
LAST-MODIFIED:20221207T170141Z
UID:10000843-1671904800-1671908400@onecity.church
SUMMARY:Christmas Eve Candlelight + Communion Service
DESCRIPTION:Jesus stepped into our timeline so that we could step into His freedom. Join us as we celebrate His birth with a special\, intimate candlelight service in the sanctuary at 6pm. This focused time of prayer\, worship and communion is the perfect opportunity to lift our voices as we meditate on the wonder of Christmas. \nFamily\, children and friends are welcome to this brief service.
URL:https://onecity.church/event/christmas-eve-candlelight-communion-service/
LOCATION:One City Church\, 2350 Eastex Freeway\, Beaumont\, TX\, 77703\, United States
CATEGORIES:Church Wide,Community Event,December Events,Family Events,Kids Events
ATTACH;FMTTYPE=image/jpeg:https://onecity.church/wp-content/uploads/2022/12/Your-paragraph-text-2.jpg
END:VEVENT
BEGIN:VEVENT
DTSTART;TZID=America/Chicago:20221218T100000
DTEND;TZID=America/Chicago:20221218T120000
DTSTAMP:20260424T185730
CREATED:20221207T170632Z
LAST-MODIFIED:20221207T170632Z
UID:10001357-1671357600-1671364800@onecity.church
SUMMARY:Run to the Hope
DESCRIPTION:Come join One City Church for this year’s Christmas Program: Run to the Hope! Journey with Mary\, the shepherds and angels as the hope of Christmas meets the need of creation. This multi-generational program is sure to help connect you to God\, connect with people and awaken hope! Admission is free\, so bring family and friends to this season’s holiday highlight on December 18 at 10am.
URL:https://onecity.church/event/run-to-the-hope/
LOCATION:Main Sanctuary\, 2350 Eastex Freeway\, Beaumont\, TX\, 77703\, United States
CATEGORIES:Church Wide,December Events,Family Events,Kids Events
ATTACH;FMTTYPE=image/jpeg:https://onecity.church/wp-content/uploads/2022/12/Sunday-December-18-10-a.m..jpg
END:VEVENT
BEGIN:VEVENT
DTSTART;TZID=America/Chicago:20221214T180000
DTEND;TZID=America/Chicago:20221214T200000
DTSTAMP:20260424T185730
CREATED:20221207T165704Z
LAST-MODIFIED:20221207T165704Z
UID:10000841-1671040800-1671048000@onecity.church
SUMMARY:Old Fashion Family Christmas
DESCRIPTION:Join us for an “Old Fashion Family Christmas around the tree”. The night will be filled with family fun for all as we trim the tree\, make ornaments\, drink hot coco\, and play games; while wear our ugly sweaters and singing Christmas Carols. Hot Coco and Desserts will be provided. Wednesday Dec 14th doors open at 6pm.
URL:https://onecity.church/event/old-fashion-family-christmas/
LOCATION:One City Church\, 2350 Eastex Freeway\, Beaumont\, TX\, 77703\, United States
CATEGORIES:December Events,Family Events
ATTACH;FMTTYPE=image/jpeg:https://onecity.church/wp-content/uploads/2022/12/old-fashion-cmas.jpg
END:VEVENT
BEGIN:VEVENT
DTSTART;TZID=America/Chicago:20211222T180000
DTEND;TZID=America/Chicago:20211222T200000
DTSTAMP:20260424T185730
CREATED:20211117T164640Z
LAST-MODIFIED:20211222T211238Z
UID:10001285-1640196000-1640203200@onecity.church
SUMMARY:Last Minute Shopping Night!
DESCRIPTION:You have last minute Christmas Shopping? One City Church has you covered. December 22nd from 6-8pm\, we will be offering childcare ages 0-18 so you can get it accomplished.
URL:https://onecity.church/event/last-minute-shopping-night/
LOCATION:One City Church\, 2350 Eastex Freeway\, Beaumont\, TX\, 77703\, United States
CATEGORIES:Community Event,December Events,Kids Events
ATTACH;FMTTYPE=image/jpeg:https://onecity.church/wp-content/uploads/2021/11/Last.jpg
END:VEVENT
BEGIN:VEVENT
DTSTART;TZID=America/Chicago:20211219T100000
DTEND;TZID=America/Chicago:20211219T120000
DTSTAMP:20260424T185730
CREATED:20211117T164517Z
LAST-MODIFIED:20211117T164517Z
UID:10001284-1639908000-1639915200@onecity.church
SUMMARY:VIRAL: A Message Worth Sharing (Christmas Production)
DESCRIPTION:Sunday morning\, December 19th\, at 10:00am in the Sanctuary we will have a very special Christmas program entitled: Viral. This will portray a powerful story of the greatest message\, a message worth sharing\, the arrival of King Jesus. Invite a friend\, you don’t want to miss this.
URL:https://onecity.church/event/viral-a-message-worth-sharing-christmas-production/
LOCATION:Main Sanctuary\, 2350 Eastex Freeway\, Beaumont\, TX\, 77703\, United States
CATEGORIES:Church Wide,Community Event,December Events
ATTACH;FMTTYPE=image/jpeg:https://onecity.church/wp-content/uploads/2021/11/VIRAL-SQ.jpg
END:VEVENT
BEGIN:VEVENT
DTSTART;TZID=America/Chicago:20211218T160000
DTEND;TZID=America/Chicago:20211218T200000
DTSTAMP:20260424T185730
CREATED:20211117T164055Z
LAST-MODIFIED:20211201T210621Z
UID:10001283-1639843200-1639857600@onecity.church
SUMMARY:Christmas In The Park
DESCRIPTION:We are so excited to be partnering with Hope 4 the Homeless and Night Strike for the 2021 annual Christmas in the Park- an outreach to the homeless community of SETX as well as families in need this Christmas season. \nOne City Cares is sponsoring the men’s Christmas tree and gifts and we would love for you to join us. \nYou can participate in 3 ways: \n\nDonate one or more of the items listed below that will be given at the event. (bring unwrapped)\nHelp volunteer the day of the event\, Sat. Dec 18th from 4-8pm. Let us know by calling the church office (892-8475) or emailing aeverett@onecity.church to volunteer.\nGive financially towards this outreach by going to www.onecity.church/give and choose One City Cares from the drop down menu.\n\nThis will be an amazing time of ministry with gifts\, a Christmas dinner and a time of sharing salvation to all. If you have questions\, please call Pastor Amy Everett at the church office. \nSome items needed are: \nFlashlights\, beanies\, gloves\, batteries\, socks\, underwear\, T-shirt’s\, shoes\, watches\, backpacks/duffle bags\, sweatpants\, sweatshirts\, hoodies\, sleeping bags\, tents\, blankets\, bibles\, cologne\, perfume\, combs/brush sets\, air mattress\, pillows\, ear buds/headphones\, coats\, clothing (new)\, thermal underwear\, insulated coveralls\, battery operated radios\, work boots\, **camp stoves\, **camping supplies\, **head lamps\, **tarps\, **slicker suits\, and **insulated coveralls. (All can be dropped off at The Welcome Center at any of our services. Items marked with ** are high priority) \n 
URL:https://onecity.church/event/christmas-in-the-park/
LOCATION:Weiss Park\, corner of Liberty and Magnolia
CATEGORIES:Church Wide,Community Event,December Events
ORGANIZER;CN="One City Church":MAILTO:info@onecity.church
END:VEVENT
BEGIN:VEVENT
DTSTART;TZID=America/Chicago:20211215T183000
DTEND;TZID=America/Chicago:20211215T200000
DTSTAMP:20260424T185730
CREATED:20211117T163912Z
LAST-MODIFIED:20211117T163912Z
UID:10001282-1639593000-1639598400@onecity.church
SUMMARY:Family Game Night
DESCRIPTION:Wednesday\, December 15th at 6:30 pm we will be hosting a church-wide Family Game Night in the Event Center! This will be a fun time together where we can celebrate our community and make memories. Bring a friend!
URL:https://onecity.church/event/family-game-night/
LOCATION:Event Center Main Auditorium\, 2350 Eastex Freeway\, Beaumont\, TX\, 77703\, United States
CATEGORIES:Church Wide,Community Event,December Events
END:VEVENT
BEGIN:VEVENT
DTSTART;TZID=America/Chicago:20211212T183000
DTEND;TZID=America/Chicago:20211212T203000
DTSTAMP:20260424T185730
CREATED:20211117T162626Z
LAST-MODIFIED:20211117T162626Z
UID:10001281-1639333800-1639341000@onecity.church
SUMMARY:Special Guest Speaker Greg Hood - PM Service
DESCRIPTION:Join us Sunday\, December 12th for 2 services featuring Guest Speaker Greg Hood. Greg Hood is the intercessor who gave the powerful prophetic word concerning Beaumont and this region on the program with Clay Nash (part of Dutch Sheets’ ministry). He will be speaking that Sunday morning at 10am and we’ll have a special evening service as well – 6:30pm – for those in our region who would like to attend. Help us spread the word and we’ll see you on December 12th.
URL:https://onecity.church/event/special-guest-speaker-greg-hood-pm-service/
LOCATION:Main Sanctuary\, 2350 Eastex Freeway\, Beaumont\, TX\, 77703\, United States
CATEGORIES:Church Wide,Community Event,December Events
END:VEVENT
BEGIN:VEVENT
DTSTART;TZID=America/Chicago:20211212T100000
DTEND;TZID=America/Chicago:20211212T130000
DTSTAMP:20260424T185730
CREATED:20211117T162528Z
LAST-MODIFIED:20211117T162529Z
UID:10001280-1639303200-1639314000@onecity.church
SUMMARY:Special Guest Speaker Greg Hood - AM Service
DESCRIPTION:Join us Sunday\, December 12th for 2 services featuring Guest Speaker Greg Hood. Greg Hood is the intercessor who gave the powerful prophetic word concerning Beaumont and this region on the program with Clay Nash (part of Dutch Sheets’ ministry). He will be speaking that Sunday morning at 10am and we’ll have a special evening service as well – 6:30pm – for those in our region who would like to attend. Help us spread the word and we’ll see you on December 12th.
URL:https://onecity.church/event/special-guest-speaker-greg-hood-am-service/
LOCATION:Main Sanctuary\, 2350 Eastex Freeway\, Beaumont\, TX\, 77703\, United States
CATEGORIES:Church Wide,Community Event,December Events
END:VEVENT
BEGIN:VEVENT
DTSTART;TZID=America/Chicago:20211211T160000
DTEND;TZID=America/Chicago:20211211T180000
DTSTAMP:20260424T185730
CREATED:20211123T223414Z
LAST-MODIFIED:20211123T223414Z
UID:10001286-1639238400-1639245600@onecity.church
SUMMARY:Men's Wild Game Cookout
DESCRIPTION:It’s that time of year again. Please join us for the Men’s Wild Game Cookout Sat Dec 11th at 4pm at Buster Olivier’s. Come be encouraged and equipped.
URL:https://onecity.church/event/mens-wild-game-cookout/
LOCATION:Double O Ranch\, 9367 FM 365\, Beaumont\, TX\, 77705\, United States
CATEGORIES:Church Wide,Community Event,December Events
ORGANIZER;CN="One City Church":MAILTO:info@onecity.church
END:VEVENT
BEGIN:VEVENT
DTSTART;TZID=America/Chicago:20211209T183000
DTEND;TZID=America/Chicago:20211209T200000
DTSTAMP:20260424T185730
CREATED:20211117T162201Z
LAST-MODIFIED:20211117T162944Z
UID:10001279-1639074600-1639080000@onecity.church
SUMMARY:One City Women Presents - Christmas Through the Decades
DESCRIPTION:It’s the Most Wonderful Time of the Year! You don’t want to miss this years Women’s Christmas Party – Christmas through the Decades! This year is a decades themed party and we encourage you to dress up from your favorite  decade 50’s – Present day! We will have a fashion show\, decadent desserts\, a hot coco bar\, special music and an inspiring message from Pastor Suzann. As always there will be wonderful prizes and loads of fun! \nMeet us here Dec 9 at 6:30pm in the Event Center. Registration is required www.onecity.church/womenschristmasparty \n 
URL:https://onecity.church/event/one-city-women-presents-christmas-through-the-decades/
LOCATION:One City Church\, 2350 Eastex Freeway\, Beaumont\, TX\, 77703\, United States
CATEGORIES:Church Wide,December Events,Womens Events
ATTACH;FMTTYPE=image/png:https://onecity.church/wp-content/uploads/2021/11/IG-Square.png
END:VEVENT
BEGIN:VEVENT
DTSTART;TZID=America/Chicago:20211208T183000
DTEND;TZID=America/Chicago:20211208T210000
DTSTAMP:20260424T185730
CREATED:20211117T161949Z
LAST-MODIFIED:20211117T161949Z
UID:10001278-1638988200-1638997200@onecity.church
SUMMARY:Special Guest Speaker - Daniel Cabrera
DESCRIPTION:Join us for a special night of ministry with Evangelist Daniel Cabrera\, Wednesday Night\, December 8th at 6:30pm in the Main Sanctuary. Daniel has a powerful prophetic ministry and our church is always blessed when he visits. Make sure to join us for this joint service with One City Español.
URL:https://onecity.church/event/special-guest-speaker-daniel-cabrera/
LOCATION:Main Sanctuary\, 2350 Eastex Freeway\, Beaumont\, TX\, 77703\, United States
CATEGORIES:Community Event,December Events
END:VEVENT
BEGIN:VEVENT
DTSTART;TZID=America/Chicago:20211201T183000
DTEND;TZID=America/Chicago:20211201T210000
DTSTAMP:20260424T185730
CREATED:20211117T161626Z
LAST-MODIFIED:20211117T162156Z
UID:10001277-1638383400-1638392400@onecity.church
SUMMARY:MOVIE NIGHT - Christmas with the Chosen
DESCRIPTION:Join us December 1st as we watch “Christmas with The Chosen” at Tinseltown Tickets are limited and just $3 Tickets are available at www.onecity.church/chosen. Doors to the movie open at 6:30pm and the movie begins at 7:00pm. \nChildcare 0-5 will be provided here at the church. (for Childcare – dropoff will begin at 6:00pm and pickup will be between 9:15-9:30pm). \nYou can watch the trailer to this movie here: https://www.youtube.com/watch?v=a9s7OUspzes
URL:https://onecity.church/event/movie-night-christmas-with-the-chosen/
LOCATION:Cinemark – Beaumont\, 3855 I-10 S\, Beaumont\, TX\, 77705\, United States
CATEGORIES:Church Wide,Community Event,December Events
END:VEVENT
END:VCALENDAR