BEGIN:VCALENDAR
VERSION:2.0
PRODID:-//One City Church - ECPv6.15.19//NONSGML v1.0//EN
CALSCALE:GREGORIAN
METHOD:PUBLISH
X-WR-CALNAME:One City Church
X-ORIGINAL-URL:https://onecity.church
X-WR-CALDESC:Events for One City Church
REFRESH-INTERVAL;VALUE=DURATION:PT1H
X-Robots-Tag:noindex
X-PUBLISHED-TTL:PT1H
BEGIN:VTIMEZONE
TZID:America/Chicago
BEGIN:DAYLIGHT
TZOFFSETFROM:-0600
TZOFFSETTO:-0500
TZNAME:CDT
DTSTART:20240310T080000
END:DAYLIGHT
BEGIN:STANDARD
TZOFFSETFROM:-0500
TZOFFSETTO:-0600
TZNAME:CST
DTSTART:20241103T070000
END:STANDARD
BEGIN:DAYLIGHT
TZOFFSETFROM:-0600
TZOFFSETTO:-0500
TZNAME:CDT
DTSTART:20250309T080000
END:DAYLIGHT
BEGIN:STANDARD
TZOFFSETFROM:-0500
TZOFFSETTO:-0600
TZNAME:CST
DTSTART:20251102T070000
END:STANDARD
BEGIN:DAYLIGHT
TZOFFSETFROM:-0600
TZOFFSETTO:-0500
TZNAME:CDT
DTSTART:20260308T080000
END:DAYLIGHT
BEGIN:STANDARD
TZOFFSETFROM:-0500
TZOFFSETTO:-0600
TZNAME:CST
DTSTART:20261101T070000
END:STANDARD
BEGIN:DAYLIGHT
TZOFFSETFROM:-0600
TZOFFSETTO:-0500
TZNAME:CDT
DTSTART:20270314T080000
END:DAYLIGHT
BEGIN:STANDARD
TZOFFSETFROM:-0500
TZOFFSETTO:-0600
TZNAME:CST
DTSTART:20271107T070000
END:STANDARD
END:VTIMEZONE
BEGIN:VEVENT
DTSTART;TZID=America/Chicago:20260212T110000
DTEND;TZID=America/Chicago:20260212T120000
DTSTAMP:20260424T225316
CREATED:20260123T164533Z
LAST-MODIFIED:20260123T164713Z
UID:10003477-1770894000-1770897600@onecity.church
SUMMARY:Freedom Journey Spring 2026 (Thursday am)
DESCRIPTION:Freedom Journey begins February 1! \nWe’re so excited to see how God is going to move as His children draw closer to Him and experience true freedom! \nFor this season of Freedom Journey we’re offering two meeting time options each week—choose the one that works best for you: \n📅 Sundays at 6:30 PM – Starting February 1\n📅 Thursdays at 11:00 AM – Starting February 5 \n📍All classes will meet in the Freedom Room near the café. \nIf you haven’t signed up yet\, don’t miss this opportunity to grow deeper in your walk with God and walk in lasting freedom! \n👉 To sign up and order your Freedom Journey book\, click here. \n📞 Have questions or need help getting plugged in? Contact Pastor Amy Everett at the church office: 409-892-8475\, ext. 2226 \nLet’s take this journey together! \n(Please note\, sign ups for this class will close on February 18)
URL:https://onecity.church/event/freedom-journey-spring-2026-thursday-am/2026-02-12/
LOCATION:One City Church\, 2350 Eastex Freeway\, Beaumont\, TX\, 77703\, United States
CATEGORIES:Church Wide
ATTACH;FMTTYPE=image/png:https://onecity.church/wp-content/uploads/2025/09/Freedom-Journey-F1-form.png
END:VEVENT
BEGIN:VEVENT
DTSTART;TZID=America/Chicago:20260211T183000
DTEND;TZID=America/Chicago:20260211T200000
DTSTAMP:20260424T225316
CREATED:20240607T034316Z
LAST-MODIFIED:20240607T034459Z
UID:10002605-1770834600-1770840000@onecity.church
SUMMARY:One City Youth Service
DESCRIPTION:One City Youth meets in building 4 at 6:30pm
URL:https://onecity.church/event/ocy-service/2026-02-11/
LOCATION:One City Church\, 2350 Eastex Freeway\, Beaumont\, TX\, 77703\, United States
CATEGORIES:Church Wide
END:VEVENT
BEGIN:VEVENT
DTSTART;TZID=America/Chicago:20260211T183000
DTEND;TZID=America/Chicago:20260211T193000
DTSTAMP:20260424T225316
CREATED:20240105T235620Z
LAST-MODIFIED:20240606T155212Z
UID:10001656-1770834600-1770838200@onecity.church
SUMMARY:Small Groups
DESCRIPTION:Have you joined a Small Group yet! \nWe have many small groups meeting all around the golden triangle and would love for you jump in and join us. \nTo find a group near you go to www.onecity.church/smallgroups
URL:https://onecity.church/event/small-groups/2026-02-11/
LOCATION:One City Church\, 2350 Eastex Freeway\, Beaumont\, TX\, 77703\, United States
CATEGORIES:Church Wide
END:VEVENT
BEGIN:VEVENT
DTSTART;TZID=America/Chicago:20260208T183000
DTEND;TZID=America/Chicago:20260208T193000
DTSTAMP:20260424T225316
CREATED:20260117T232106Z
LAST-MODIFIED:20260123T164046Z
UID:10003466-1770575400-1770579000@onecity.church
SUMMARY:Freedom Journey Spring 2026 (Sunday pm)
DESCRIPTION:Freedom Journey begins February 1! \nWe’re so excited to see how God is going to move as His children draw closer to Him and experience true freedom! \nFor this season of Freedom Journey we’re offering two meeting time options each week—choose the one that works best for you: \n📅 Sundays at 6:30 PM – Starting February 1\n📅 Thursdays at 11:00 AM – Starting February 5 \n📍All classes will meet in the Freedom Room near the café. \nIf you haven’t signed up yet\, don’t miss this opportunity to grow deeper in your walk with God and walk in lasting freedom! \n👉 To sign up and order your Freedom Journey book\, click here. \n📞 Have questions or need help getting plugged in? Contact Pastor Amy Everett at the church office: 409-892-8475\, ext. 2226 \nLet’s take this journey together! \n(Please note\, sign ups for this class will close on February 18)
URL:https://onecity.church/event/freedom-journey-spring-2026-sunday-pm/2026-02-08/
LOCATION:One City Church\, 2350 Eastex Freeway\, Beaumont\, TX\, 77703\, United States
CATEGORIES:Church Wide
ATTACH;FMTTYPE=image/png:https://onecity.church/wp-content/uploads/2025/09/Freedom-Journey-F1-form.png
END:VEVENT
BEGIN:VEVENT
DTSTART;TZID=America/Chicago:20260208T180000
DTEND;TZID=America/Chicago:20260208T190000
DTSTAMP:20260424T225316
CREATED:20240105T235721Z
LAST-MODIFIED:20240606T154833Z
UID:10001916-1770573600-1770577200@onecity.church
SUMMARY:Small Groups
DESCRIPTION:Have you joined a Small Group yet! \nWe have many small groups meeting all around the golden triangle and would love for you jump in and join us. \nTo find a group near you go to www.onecity.church/smallgroups
URL:https://onecity.church/event/small-groups-2/2026-02-08/
LOCATION:One City Church\, 2350 Eastex Freeway\, Beaumont\, TX\, 77703\, United States
CATEGORIES:Church Wide
END:VEVENT
BEGIN:VEVENT
DTSTART;TZID=America/Chicago:20260205T180000
DTEND;TZID=America/Chicago:20260205T200000
DTSTAMP:20260424T225316
CREATED:20240606T202843Z
LAST-MODIFIED:20240815T193438Z
UID:10002343-1770314400-1770321600@onecity.church
SUMMARY:One City Recovery
DESCRIPTION:What is One City Recovery?\n\n\n\nOne City Recovery is a Christ -centered recovery community that helps you find freedom from the issues that are controlling your life. \nThrough the biblically based 12 step program of Recovery Alive\, we are allowing the power and presence of Jesus to radically change our lives and restore hope. \nYou do not have to recover alone. We have a place for you to start over. \nOne City Recovery | You belong here. \nWe meet every Thursday starting at 6pm in the One City Church Event Center.
URL:https://onecity.church/event/one-city-recovery/2026-02-05/
LOCATION:One City Event Center
CATEGORIES:Church Wide,Recovery
ATTACH;FMTTYPE=image/png:https://onecity.church/wp-content/uploads/2024/06/5x7-front.png
END:VEVENT
BEGIN:VEVENT
DTSTART;TZID=America/Chicago:20260205T110000
DTEND;TZID=America/Chicago:20260205T120000
DTSTAMP:20260424T225316
CREATED:20260123T164533Z
LAST-MODIFIED:20260123T164713Z
UID:10003476-1770289200-1770292800@onecity.church
SUMMARY:Freedom Journey Spring 2026 (Thursday am)
DESCRIPTION:Freedom Journey begins February 1! \nWe’re so excited to see how God is going to move as His children draw closer to Him and experience true freedom! \nFor this season of Freedom Journey we’re offering two meeting time options each week—choose the one that works best for you: \n📅 Sundays at 6:30 PM – Starting February 1\n📅 Thursdays at 11:00 AM – Starting February 5 \n📍All classes will meet in the Freedom Room near the café. \nIf you haven’t signed up yet\, don’t miss this opportunity to grow deeper in your walk with God and walk in lasting freedom! \n👉 To sign up and order your Freedom Journey book\, click here. \n📞 Have questions or need help getting plugged in? Contact Pastor Amy Everett at the church office: 409-892-8475\, ext. 2226 \nLet’s take this journey together! \n(Please note\, sign ups for this class will close on February 18)
URL:https://onecity.church/event/freedom-journey-spring-2026-thursday-am/2026-02-05/
LOCATION:One City Church\, 2350 Eastex Freeway\, Beaumont\, TX\, 77703\, United States
CATEGORIES:Church Wide
ATTACH;FMTTYPE=image/png:https://onecity.church/wp-content/uploads/2025/09/Freedom-Journey-F1-form.png
END:VEVENT
BEGIN:VEVENT
DTSTART;TZID=America/Chicago:20260204T183000
DTEND;TZID=America/Chicago:20260204T200000
DTSTAMP:20260424T225316
CREATED:20240607T034316Z
LAST-MODIFIED:20240607T034459Z
UID:10002604-1770229800-1770235200@onecity.church
SUMMARY:One City Youth Service
DESCRIPTION:One City Youth meets in building 4 at 6:30pm
URL:https://onecity.church/event/ocy-service/2026-02-04/
LOCATION:One City Church\, 2350 Eastex Freeway\, Beaumont\, TX\, 77703\, United States
CATEGORIES:Church Wide
END:VEVENT
BEGIN:VEVENT
DTSTART;TZID=America/Chicago:20260204T183000
DTEND;TZID=America/Chicago:20260204T193000
DTSTAMP:20260424T225316
CREATED:20240105T235620Z
LAST-MODIFIED:20240606T155212Z
UID:10001655-1770229800-1770233400@onecity.church
SUMMARY:Small Groups
DESCRIPTION:Have you joined a Small Group yet! \nWe have many small groups meeting all around the golden triangle and would love for you jump in and join us. \nTo find a group near you go to www.onecity.church/smallgroups
URL:https://onecity.church/event/small-groups/2026-02-04/
LOCATION:One City Church\, 2350 Eastex Freeway\, Beaumont\, TX\, 77703\, United States
CATEGORIES:Church Wide
END:VEVENT
BEGIN:VEVENT
DTSTART;TZID=America/Chicago:20260201T183000
DTEND;TZID=America/Chicago:20260201T193000
DTSTAMP:20260424T225316
CREATED:20260117T232106Z
LAST-MODIFIED:20260123T164046Z
UID:10003465-1769970600-1769974200@onecity.church
SUMMARY:Freedom Journey Spring 2026 (Sunday pm)
DESCRIPTION:Freedom Journey begins February 1! \nWe’re so excited to see how God is going to move as His children draw closer to Him and experience true freedom! \nFor this season of Freedom Journey we’re offering two meeting time options each week—choose the one that works best for you: \n📅 Sundays at 6:30 PM – Starting February 1\n📅 Thursdays at 11:00 AM – Starting February 5 \n📍All classes will meet in the Freedom Room near the café. \nIf you haven’t signed up yet\, don’t miss this opportunity to grow deeper in your walk with God and walk in lasting freedom! \n👉 To sign up and order your Freedom Journey book\, click here. \n📞 Have questions or need help getting plugged in? Contact Pastor Amy Everett at the church office: 409-892-8475\, ext. 2226 \nLet’s take this journey together! \n(Please note\, sign ups for this class will close on February 18)
URL:https://onecity.church/event/freedom-journey-spring-2026-sunday-pm/2026-02-01/
LOCATION:One City Church\, 2350 Eastex Freeway\, Beaumont\, TX\, 77703\, United States
CATEGORIES:Church Wide
ATTACH;FMTTYPE=image/png:https://onecity.church/wp-content/uploads/2025/09/Freedom-Journey-F1-form.png
END:VEVENT
BEGIN:VEVENT
DTSTART;TZID=America/Chicago:20260201T180000
DTEND;TZID=America/Chicago:20260201T190000
DTSTAMP:20260424T225316
CREATED:20240105T235721Z
LAST-MODIFIED:20240606T154833Z
UID:10001915-1769968800-1769972400@onecity.church
SUMMARY:Small Groups
DESCRIPTION:Have you joined a Small Group yet! \nWe have many small groups meeting all around the golden triangle and would love for you jump in and join us. \nTo find a group near you go to www.onecity.church/smallgroups
URL:https://onecity.church/event/small-groups-2/2026-02-01/
LOCATION:One City Church\, 2350 Eastex Freeway\, Beaumont\, TX\, 77703\, United States
CATEGORIES:Church Wide
END:VEVENT
BEGIN:VEVENT
DTSTART;TZID=America/Chicago:20260129T180000
DTEND;TZID=America/Chicago:20260129T200000
DTSTAMP:20260424T225316
CREATED:20240606T202843Z
LAST-MODIFIED:20240815T193438Z
UID:10002342-1769709600-1769716800@onecity.church
SUMMARY:One City Recovery
DESCRIPTION:What is One City Recovery?\n\n\n\nOne City Recovery is a Christ -centered recovery community that helps you find freedom from the issues that are controlling your life. \nThrough the biblically based 12 step program of Recovery Alive\, we are allowing the power and presence of Jesus to radically change our lives and restore hope. \nYou do not have to recover alone. We have a place for you to start over. \nOne City Recovery | You belong here. \nWe meet every Thursday starting at 6pm in the One City Church Event Center.
URL:https://onecity.church/event/one-city-recovery/2026-01-29/
LOCATION:One City Event Center
CATEGORIES:Church Wide,Recovery
ATTACH;FMTTYPE=image/png:https://onecity.church/wp-content/uploads/2024/06/5x7-front.png
END:VEVENT
BEGIN:VEVENT
DTSTART;TZID=America/Chicago:20260128T183000
DTEND;TZID=America/Chicago:20260128T200000
DTSTAMP:20260424T225316
CREATED:20240607T034316Z
LAST-MODIFIED:20240607T034459Z
UID:10002603-1769625000-1769630400@onecity.church
SUMMARY:One City Youth Service
DESCRIPTION:One City Youth meets in building 4 at 6:30pm
URL:https://onecity.church/event/ocy-service/2026-01-28/
LOCATION:One City Church\, 2350 Eastex Freeway\, Beaumont\, TX\, 77703\, United States
CATEGORIES:Church Wide
END:VEVENT
BEGIN:VEVENT
DTSTART;TZID=America/Chicago:20260128T183000
DTEND;TZID=America/Chicago:20260128T193000
DTSTAMP:20260424T225316
CREATED:20240105T235620Z
LAST-MODIFIED:20240606T155212Z
UID:10001654-1769625000-1769628600@onecity.church
SUMMARY:Small Groups
DESCRIPTION:Have you joined a Small Group yet! \nWe have many small groups meeting all around the golden triangle and would love for you jump in and join us. \nTo find a group near you go to www.onecity.church/smallgroups
URL:https://onecity.church/event/small-groups/2026-01-28/
LOCATION:One City Church\, 2350 Eastex Freeway\, Beaumont\, TX\, 77703\, United States
CATEGORIES:Church Wide
END:VEVENT
BEGIN:VEVENT
DTSTART;TZID=America/Chicago:20260125T180000
DTEND;TZID=America/Chicago:20260125T190000
DTSTAMP:20260424T225316
CREATED:20240105T235721Z
LAST-MODIFIED:20240606T154833Z
UID:10001914-1769364000-1769367600@onecity.church
SUMMARY:Small Groups
DESCRIPTION:Have you joined a Small Group yet! \nWe have many small groups meeting all around the golden triangle and would love for you jump in and join us. \nTo find a group near you go to www.onecity.church/smallgroups
URL:https://onecity.church/event/small-groups-2/2026-01-25/
LOCATION:One City Church\, 2350 Eastex Freeway\, Beaumont\, TX\, 77703\, United States
CATEGORIES:Church Wide
END:VEVENT
BEGIN:VEVENT
DTSTART;TZID=America/Chicago:20260122T180000
DTEND;TZID=America/Chicago:20260122T200000
DTSTAMP:20260424T225316
CREATED:20240606T202843Z
LAST-MODIFIED:20240815T193438Z
UID:10002341-1769104800-1769112000@onecity.church
SUMMARY:One City Recovery
DESCRIPTION:What is One City Recovery?\n\n\n\nOne City Recovery is a Christ -centered recovery community that helps you find freedom from the issues that are controlling your life. \nThrough the biblically based 12 step program of Recovery Alive\, we are allowing the power and presence of Jesus to radically change our lives and restore hope. \nYou do not have to recover alone. We have a place for you to start over. \nOne City Recovery | You belong here. \nWe meet every Thursday starting at 6pm in the One City Church Event Center.
URL:https://onecity.church/event/one-city-recovery/2026-01-22/
LOCATION:One City Event Center
CATEGORIES:Church Wide,Recovery
ATTACH;FMTTYPE=image/png:https://onecity.church/wp-content/uploads/2024/06/5x7-front.png
END:VEVENT
BEGIN:VEVENT
DTSTART;TZID=America/Chicago:20260121T183000
DTEND;TZID=America/Chicago:20260121T200000
DTSTAMP:20260424T225316
CREATED:20240607T034316Z
LAST-MODIFIED:20240607T034459Z
UID:10002602-1769020200-1769025600@onecity.church
SUMMARY:One City Youth Service
DESCRIPTION:One City Youth meets in building 4 at 6:30pm
URL:https://onecity.church/event/ocy-service/2026-01-21/
LOCATION:One City Church\, 2350 Eastex Freeway\, Beaumont\, TX\, 77703\, United States
CATEGORIES:Church Wide
END:VEVENT
BEGIN:VEVENT
DTSTART;TZID=America/Chicago:20260121T183000
DTEND;TZID=America/Chicago:20260121T193000
DTSTAMP:20260424T225316
CREATED:20240105T235620Z
LAST-MODIFIED:20240606T155212Z
UID:10001653-1769020200-1769023800@onecity.church
SUMMARY:Small Groups
DESCRIPTION:Have you joined a Small Group yet! \nWe have many small groups meeting all around the golden triangle and would love for you jump in and join us. \nTo find a group near you go to www.onecity.church/smallgroups
URL:https://onecity.church/event/small-groups/2026-01-21/
LOCATION:One City Church\, 2350 Eastex Freeway\, Beaumont\, TX\, 77703\, United States
CATEGORIES:Church Wide
END:VEVENT
BEGIN:VEVENT
DTSTART;TZID=America/Chicago:20260118T180000
DTEND;TZID=America/Chicago:20260118T190000
DTSTAMP:20260424T225316
CREATED:20240105T235721Z
LAST-MODIFIED:20240606T154833Z
UID:10001913-1768759200-1768762800@onecity.church
SUMMARY:Small Groups
DESCRIPTION:Have you joined a Small Group yet! \nWe have many small groups meeting all around the golden triangle and would love for you jump in and join us. \nTo find a group near you go to www.onecity.church/smallgroups
URL:https://onecity.church/event/small-groups-2/2026-01-18/
LOCATION:One City Church\, 2350 Eastex Freeway\, Beaumont\, TX\, 77703\, United States
CATEGORIES:Church Wide
END:VEVENT
BEGIN:VEVENT
DTSTART;TZID=America/Chicago:20260115T180000
DTEND;TZID=America/Chicago:20260115T200000
DTSTAMP:20260424T225316
CREATED:20240606T202843Z
LAST-MODIFIED:20240815T193438Z
UID:10002340-1768500000-1768507200@onecity.church
SUMMARY:One City Recovery
DESCRIPTION:What is One City Recovery?\n\n\n\nOne City Recovery is a Christ -centered recovery community that helps you find freedom from the issues that are controlling your life. \nThrough the biblically based 12 step program of Recovery Alive\, we are allowing the power and presence of Jesus to radically change our lives and restore hope. \nYou do not have to recover alone. We have a place for you to start over. \nOne City Recovery | You belong here. \nWe meet every Thursday starting at 6pm in the One City Church Event Center.
URL:https://onecity.church/event/one-city-recovery/2026-01-15/
LOCATION:One City Event Center
CATEGORIES:Church Wide,Recovery
ATTACH;FMTTYPE=image/png:https://onecity.church/wp-content/uploads/2024/06/5x7-front.png
END:VEVENT
BEGIN:VEVENT
DTSTART;TZID=America/Chicago:20260114T183000
DTEND;TZID=America/Chicago:20260114T200000
DTSTAMP:20260424T225316
CREATED:20240607T034316Z
LAST-MODIFIED:20240607T034459Z
UID:10002601-1768415400-1768420800@onecity.church
SUMMARY:One City Youth Service
DESCRIPTION:One City Youth meets in building 4 at 6:30pm
URL:https://onecity.church/event/ocy-service/2026-01-14/
LOCATION:One City Church\, 2350 Eastex Freeway\, Beaumont\, TX\, 77703\, United States
CATEGORIES:Church Wide
END:VEVENT
BEGIN:VEVENT
DTSTART;TZID=America/Chicago:20260114T183000
DTEND;TZID=America/Chicago:20260114T193000
DTSTAMP:20260424T225316
CREATED:20240105T235620Z
LAST-MODIFIED:20240606T155212Z
UID:10001652-1768415400-1768419000@onecity.church
SUMMARY:Small Groups
DESCRIPTION:Have you joined a Small Group yet! \nWe have many small groups meeting all around the golden triangle and would love for you jump in and join us. \nTo find a group near you go to www.onecity.church/smallgroups
URL:https://onecity.church/event/small-groups/2026-01-14/
LOCATION:One City Church\, 2350 Eastex Freeway\, Beaumont\, TX\, 77703\, United States
CATEGORIES:Church Wide
END:VEVENT
BEGIN:VEVENT
DTSTART;TZID=America/Chicago:20260111T180000
DTEND;TZID=America/Chicago:20260111T190000
DTSTAMP:20260424T225316
CREATED:20240105T235721Z
LAST-MODIFIED:20240606T154833Z
UID:10001912-1768154400-1768158000@onecity.church
SUMMARY:Small Groups
DESCRIPTION:Have you joined a Small Group yet! \nWe have many small groups meeting all around the golden triangle and would love for you jump in and join us. \nTo find a group near you go to www.onecity.church/smallgroups
URL:https://onecity.church/event/small-groups-2/2026-01-11/
LOCATION:One City Church\, 2350 Eastex Freeway\, Beaumont\, TX\, 77703\, United States
CATEGORIES:Church Wide
END:VEVENT
BEGIN:VEVENT
DTSTART;TZID=America/Chicago:20260108T180000
DTEND;TZID=America/Chicago:20260108T200000
DTSTAMP:20260424T225316
CREATED:20240606T202843Z
LAST-MODIFIED:20240815T193438Z
UID:10002339-1767895200-1767902400@onecity.church
SUMMARY:One City Recovery
DESCRIPTION:What is One City Recovery?\n\n\n\nOne City Recovery is a Christ -centered recovery community that helps you find freedom from the issues that are controlling your life. \nThrough the biblically based 12 step program of Recovery Alive\, we are allowing the power and presence of Jesus to radically change our lives and restore hope. \nYou do not have to recover alone. We have a place for you to start over. \nOne City Recovery | You belong here. \nWe meet every Thursday starting at 6pm in the One City Church Event Center.
URL:https://onecity.church/event/one-city-recovery/2026-01-08/
LOCATION:One City Event Center
CATEGORIES:Church Wide,Recovery
ATTACH;FMTTYPE=image/png:https://onecity.church/wp-content/uploads/2024/06/5x7-front.png
END:VEVENT
BEGIN:VEVENT
DTSTART;TZID=America/Chicago:20260107T183000
DTEND;TZID=America/Chicago:20260107T200000
DTSTAMP:20260424T225316
CREATED:20240607T034316Z
LAST-MODIFIED:20240607T034459Z
UID:10002600-1767810600-1767816000@onecity.church
SUMMARY:One City Youth Service
DESCRIPTION:One City Youth meets in building 4 at 6:30pm
URL:https://onecity.church/event/ocy-service/2026-01-07/
LOCATION:One City Church\, 2350 Eastex Freeway\, Beaumont\, TX\, 77703\, United States
CATEGORIES:Church Wide
END:VEVENT
BEGIN:VEVENT
DTSTART;TZID=America/Chicago:20260107T183000
DTEND;TZID=America/Chicago:20260107T193000
DTSTAMP:20260424T225316
CREATED:20240105T235620Z
LAST-MODIFIED:20240606T155212Z
UID:10001651-1767810600-1767814200@onecity.church
SUMMARY:Small Groups
DESCRIPTION:Have you joined a Small Group yet! \nWe have many small groups meeting all around the golden triangle and would love for you jump in and join us. \nTo find a group near you go to www.onecity.church/smallgroups
URL:https://onecity.church/event/small-groups/2026-01-07/
LOCATION:One City Church\, 2350 Eastex Freeway\, Beaumont\, TX\, 77703\, United States
CATEGORIES:Church Wide
END:VEVENT
BEGIN:VEVENT
DTSTART;TZID=America/Chicago:20260104T180000
DTEND;TZID=America/Chicago:20260104T190000
DTSTAMP:20260424T225316
CREATED:20240105T235721Z
LAST-MODIFIED:20240606T154833Z
UID:10001911-1767549600-1767553200@onecity.church
SUMMARY:Small Groups
DESCRIPTION:Have you joined a Small Group yet! \nWe have many small groups meeting all around the golden triangle and would love for you jump in and join us. \nTo find a group near you go to www.onecity.church/smallgroups
URL:https://onecity.church/event/small-groups-2/2026-01-04/
LOCATION:One City Church\, 2350 Eastex Freeway\, Beaumont\, TX\, 77703\, United States
CATEGORIES:Church Wide
END:VEVENT
BEGIN:VEVENT
DTSTART;TZID=America/Chicago:20260101T180000
DTEND;TZID=America/Chicago:20260101T200000
DTSTAMP:20260424T225316
CREATED:20240606T202843Z
LAST-MODIFIED:20240815T193438Z
UID:10002338-1767290400-1767297600@onecity.church
SUMMARY:One City Recovery
DESCRIPTION:What is One City Recovery?\n\n\n\nOne City Recovery is a Christ -centered recovery community that helps you find freedom from the issues that are controlling your life. \nThrough the biblically based 12 step program of Recovery Alive\, we are allowing the power and presence of Jesus to radically change our lives and restore hope. \nYou do not have to recover alone. We have a place for you to start over. \nOne City Recovery | You belong here. \nWe meet every Thursday starting at 6pm in the One City Church Event Center.
URL:https://onecity.church/event/one-city-recovery/2026-01-01/
LOCATION:One City Event Center
CATEGORIES:Church Wide,Recovery
ATTACH;FMTTYPE=image/png:https://onecity.church/wp-content/uploads/2024/06/5x7-front.png
END:VEVENT
BEGIN:VEVENT
DTSTART;TZID=America/Chicago:20251231T183000
DTEND;TZID=America/Chicago:20251231T200000
DTSTAMP:20260424T225316
CREATED:20240607T034316Z
LAST-MODIFIED:20240607T034459Z
UID:10002599-1767205800-1767211200@onecity.church
SUMMARY:One City Youth Service
DESCRIPTION:One City Youth meets in building 4 at 6:30pm
URL:https://onecity.church/event/ocy-service/2025-12-31/
LOCATION:One City Church\, 2350 Eastex Freeway\, Beaumont\, TX\, 77703\, United States
CATEGORIES:Church Wide
END:VEVENT
BEGIN:VEVENT
DTSTART;TZID=America/Chicago:20251231T183000
DTEND;TZID=America/Chicago:20251231T193000
DTSTAMP:20260424T225316
CREATED:20240105T235620Z
LAST-MODIFIED:20240606T155212Z
UID:10001650-1767205800-1767209400@onecity.church
SUMMARY:Small Groups
DESCRIPTION:Have you joined a Small Group yet! \nWe have many small groups meeting all around the golden triangle and would love for you jump in and join us. \nTo find a group near you go to www.onecity.church/smallgroups
URL:https://onecity.church/event/small-groups/2025-12-31/
LOCATION:One City Church\, 2350 Eastex Freeway\, Beaumont\, TX\, 77703\, United States
CATEGORIES:Church Wide
END:VEVENT
END:VCALENDAR