BEGIN:VCALENDAR
VERSION:2.0
PRODID:-//One City Church - ECPv6.15.19//NONSGML v1.0//EN
CALSCALE:GREGORIAN
METHOD:PUBLISH
X-WR-CALNAME:One City Church
X-ORIGINAL-URL:https://onecity.church
X-WR-CALDESC:Events for One City Church
REFRESH-INTERVAL;VALUE=DURATION:PT1H
X-Robots-Tag:noindex
X-PUBLISHED-TTL:PT1H
BEGIN:VTIMEZONE
TZID:America/Chicago
BEGIN:DAYLIGHT
TZOFFSETFROM:-0600
TZOFFSETTO:-0500
TZNAME:CDT
DTSTART:20240310T080000
END:DAYLIGHT
BEGIN:STANDARD
TZOFFSETFROM:-0500
TZOFFSETTO:-0600
TZNAME:CST
DTSTART:20241103T070000
END:STANDARD
BEGIN:DAYLIGHT
TZOFFSETFROM:-0600
TZOFFSETTO:-0500
TZNAME:CDT
DTSTART:20250309T080000
END:DAYLIGHT
BEGIN:STANDARD
TZOFFSETFROM:-0500
TZOFFSETTO:-0600
TZNAME:CST
DTSTART:20251102T070000
END:STANDARD
BEGIN:DAYLIGHT
TZOFFSETFROM:-0600
TZOFFSETTO:-0500
TZNAME:CDT
DTSTART:20260308T080000
END:DAYLIGHT
BEGIN:STANDARD
TZOFFSETFROM:-0500
TZOFFSETTO:-0600
TZNAME:CST
DTSTART:20261101T070000
END:STANDARD
END:VTIMEZONE
BEGIN:VEVENT
DTSTART;TZID=America/Chicago:20251224T183000
DTEND;TZID=America/Chicago:20251224T200000
DTSTAMP:20260425T055413
CREATED:20240607T034316Z
LAST-MODIFIED:20240607T034459Z
UID:10002598-1766601000-1766606400@onecity.church
SUMMARY:One City Youth Service
DESCRIPTION:One City Youth meets in building 4 at 6:30pm
URL:https://onecity.church/event/ocy-service/2025-12-24/
LOCATION:One City Church\, 2350 Eastex Freeway\, Beaumont\, TX\, 77703\, United States
CATEGORIES:Church Wide
END:VEVENT
BEGIN:VEVENT
DTSTART;TZID=America/Chicago:20251224T183000
DTEND;TZID=America/Chicago:20251224T193000
DTSTAMP:20260425T055413
CREATED:20240105T235620Z
LAST-MODIFIED:20240606T155212Z
UID:10001649-1766601000-1766604600@onecity.church
SUMMARY:Small Groups
DESCRIPTION:Have you joined a Small Group yet! \nWe have many small groups meeting all around the golden triangle and would love for you jump in and join us. \nTo find a group near you go to www.onecity.church/smallgroups
URL:https://onecity.church/event/small-groups/2025-12-24/
LOCATION:One City Church\, 2350 Eastex Freeway\, Beaumont\, TX\, 77703\, United States
CATEGORIES:Church Wide
END:VEVENT
BEGIN:VEVENT
DTSTART;TZID=America/Chicago:20251221T180000
DTEND;TZID=America/Chicago:20251221T190000
DTSTAMP:20260425T055413
CREATED:20240105T235721Z
LAST-MODIFIED:20240606T154833Z
UID:10001909-1766340000-1766343600@onecity.church
SUMMARY:Small Groups
DESCRIPTION:Have you joined a Small Group yet! \nWe have many small groups meeting all around the golden triangle and would love for you jump in and join us. \nTo find a group near you go to www.onecity.church/smallgroups
URL:https://onecity.church/event/small-groups-2/2025-12-21/
LOCATION:One City Church\, 2350 Eastex Freeway\, Beaumont\, TX\, 77703\, United States
CATEGORIES:Church Wide
END:VEVENT
BEGIN:VEVENT
DTSTART;TZID=America/Chicago:20251218T180000
DTEND;TZID=America/Chicago:20251218T200000
DTSTAMP:20260425T055413
CREATED:20240606T202843Z
LAST-MODIFIED:20240815T193438Z
UID:10002336-1766080800-1766088000@onecity.church
SUMMARY:One City Recovery
DESCRIPTION:What is One City Recovery?\n\n\n\nOne City Recovery is a Christ -centered recovery community that helps you find freedom from the issues that are controlling your life. \nThrough the biblically based 12 step program of Recovery Alive\, we are allowing the power and presence of Jesus to radically change our lives and restore hope. \nYou do not have to recover alone. We have a place for you to start over. \nOne City Recovery | You belong here. \nWe meet every Thursday starting at 6pm in the One City Church Event Center.
URL:https://onecity.church/event/one-city-recovery/2025-12-18/
LOCATION:One City Event Center
CATEGORIES:Church Wide,Recovery
ATTACH;FMTTYPE=image/png:https://onecity.church/wp-content/uploads/2024/06/5x7-front.png
END:VEVENT
BEGIN:VEVENT
DTSTART;TZID=America/Chicago:20251217T183000
DTEND;TZID=America/Chicago:20251217T200000
DTSTAMP:20260425T055413
CREATED:20240607T034316Z
LAST-MODIFIED:20240607T034459Z
UID:10002597-1765996200-1766001600@onecity.church
SUMMARY:One City Youth Service
DESCRIPTION:One City Youth meets in building 4 at 6:30pm
URL:https://onecity.church/event/ocy-service/2025-12-17/
LOCATION:One City Church\, 2350 Eastex Freeway\, Beaumont\, TX\, 77703\, United States
CATEGORIES:Church Wide
END:VEVENT
BEGIN:VEVENT
DTSTART;TZID=America/Chicago:20251217T183000
DTEND;TZID=America/Chicago:20251217T193000
DTSTAMP:20260425T055413
CREATED:20240105T235620Z
LAST-MODIFIED:20240606T155212Z
UID:10001648-1765996200-1765999800@onecity.church
SUMMARY:Small Groups
DESCRIPTION:Have you joined a Small Group yet! \nWe have many small groups meeting all around the golden triangle and would love for you jump in and join us. \nTo find a group near you go to www.onecity.church/smallgroups
URL:https://onecity.church/event/small-groups/2025-12-17/
LOCATION:One City Church\, 2350 Eastex Freeway\, Beaumont\, TX\, 77703\, United States
CATEGORIES:Church Wide
END:VEVENT
BEGIN:VEVENT
DTSTART;TZID=America/Chicago:20251214T180000
DTEND;TZID=America/Chicago:20251214T190000
DTSTAMP:20260425T055413
CREATED:20240105T235721Z
LAST-MODIFIED:20240606T154833Z
UID:10001908-1765735200-1765738800@onecity.church
SUMMARY:Small Groups
DESCRIPTION:Have you joined a Small Group yet! \nWe have many small groups meeting all around the golden triangle and would love for you jump in and join us. \nTo find a group near you go to www.onecity.church/smallgroups
URL:https://onecity.church/event/small-groups-2/2025-12-14/
LOCATION:One City Church\, 2350 Eastex Freeway\, Beaumont\, TX\, 77703\, United States
CATEGORIES:Church Wide
END:VEVENT
BEGIN:VEVENT
DTSTART;VALUE=DATE:20251214
DTEND;VALUE=DATE:20251215
DTSTAMP:20260425T055413
CREATED:20251112T180224Z
LAST-MODIFIED:20251203T125109Z
UID:10003346-1765670400-1765756799@onecity.church
SUMMARY:2025 One City Cares Giving Tree
DESCRIPTION:The One City Cares Giving Tree is dripping with opportunities for you to give back this Christmas. The first opportunity is to purchase visa gift cards for the Embracing Freedom Advocates to care for the program participants’ basic\, day to day needs. Look for the grey tags on the Giving Tree! \nWe have also adopted a Kings Club family led by a strong single father with 6 children and a Lumberton family with 7 children. Let’s bless these families with an amazing Christmas! Look for the blue tags on the Giving Tree! \nLastly\, we are partnering with Buckner Beaumont to bless local boys and girls in and out of foster care. Look for the green tags on the Giving Tree! \nWe will be collecting gifts from now until Sunday\, Dec. 7th by 12:00 pm. Stop by our giving tree in the front foyer and please bring all gifts UNWRAPPED to the giving tree by Dec. 7th so we know what has come in. For more information about the Giving Tree\, contact Pastor Amy Everett at the church office 409-892-8475\, ext 2226 or email aeverett@onecity.church.
URL:https://onecity.church/event/2025-one-city-cares-giving-tree/
LOCATION:One City Church\, 2350 Eastex Freeway\, Beaumont\, TX\, 77703\, United States
CATEGORIES:Church Wide,One City Cares
ATTACH;FMTTYPE=image/png:https://onecity.church/wp-content/uploads/2025/11/1.png
ORGANIZER;CN="One City Church":MAILTO:info@onecity.church
END:VEVENT
BEGIN:VEVENT
DTSTART;TZID=America/Chicago:20251211T180000
DTEND;TZID=America/Chicago:20251211T200000
DTSTAMP:20260425T055413
CREATED:20240606T202843Z
LAST-MODIFIED:20240815T193438Z
UID:10002335-1765476000-1765483200@onecity.church
SUMMARY:One City Recovery
DESCRIPTION:What is One City Recovery?\n\n\n\nOne City Recovery is a Christ -centered recovery community that helps you find freedom from the issues that are controlling your life. \nThrough the biblically based 12 step program of Recovery Alive\, we are allowing the power and presence of Jesus to radically change our lives and restore hope. \nYou do not have to recover alone. We have a place for you to start over. \nOne City Recovery | You belong here. \nWe meet every Thursday starting at 6pm in the One City Church Event Center.
URL:https://onecity.church/event/one-city-recovery/2025-12-11/
LOCATION:One City Event Center
CATEGORIES:Church Wide,Recovery
ATTACH;FMTTYPE=image/png:https://onecity.church/wp-content/uploads/2024/06/5x7-front.png
END:VEVENT
BEGIN:VEVENT
DTSTART;TZID=America/Chicago:20251210T183000
DTEND;TZID=America/Chicago:20251210T200000
DTSTAMP:20260425T055413
CREATED:20240607T034316Z
LAST-MODIFIED:20240607T034459Z
UID:10002596-1765391400-1765396800@onecity.church
SUMMARY:One City Youth Service
DESCRIPTION:One City Youth meets in building 4 at 6:30pm
URL:https://onecity.church/event/ocy-service/2025-12-10/
LOCATION:One City Church\, 2350 Eastex Freeway\, Beaumont\, TX\, 77703\, United States
CATEGORIES:Church Wide
END:VEVENT
BEGIN:VEVENT
DTSTART;TZID=America/Chicago:20251210T183000
DTEND;TZID=America/Chicago:20251210T193000
DTSTAMP:20260425T055413
CREATED:20240105T235620Z
LAST-MODIFIED:20240606T155212Z
UID:10001647-1765391400-1765395000@onecity.church
SUMMARY:Small Groups
DESCRIPTION:Have you joined a Small Group yet! \nWe have many small groups meeting all around the golden triangle and would love for you jump in and join us. \nTo find a group near you go to www.onecity.church/smallgroups
URL:https://onecity.church/event/small-groups/2025-12-10/
LOCATION:One City Church\, 2350 Eastex Freeway\, Beaumont\, TX\, 77703\, United States
CATEGORIES:Church Wide
END:VEVENT
BEGIN:VEVENT
DTSTART;TZID=America/Chicago:20251207T180000
DTEND;TZID=America/Chicago:20251207T190000
DTSTAMP:20260425T055413
CREATED:20240105T235721Z
LAST-MODIFIED:20240606T154833Z
UID:10001907-1765130400-1765134000@onecity.church
SUMMARY:Small Groups
DESCRIPTION:Have you joined a Small Group yet! \nWe have many small groups meeting all around the golden triangle and would love for you jump in and join us. \nTo find a group near you go to www.onecity.church/smallgroups
URL:https://onecity.church/event/small-groups-2/2025-12-07/
LOCATION:One City Church\, 2350 Eastex Freeway\, Beaumont\, TX\, 77703\, United States
CATEGORIES:Church Wide
END:VEVENT
BEGIN:VEVENT
DTSTART;TZID=America/Chicago:20251204T180000
DTEND;TZID=America/Chicago:20251204T200000
DTSTAMP:20260425T055413
CREATED:20240606T202843Z
LAST-MODIFIED:20240815T193438Z
UID:10002334-1764871200-1764878400@onecity.church
SUMMARY:One City Recovery
DESCRIPTION:What is One City Recovery?\n\n\n\nOne City Recovery is a Christ -centered recovery community that helps you find freedom from the issues that are controlling your life. \nThrough the biblically based 12 step program of Recovery Alive\, we are allowing the power and presence of Jesus to radically change our lives and restore hope. \nYou do not have to recover alone. We have a place for you to start over. \nOne City Recovery | You belong here. \nWe meet every Thursday starting at 6pm in the One City Church Event Center.
URL:https://onecity.church/event/one-city-recovery/2025-12-04/
LOCATION:One City Event Center
CATEGORIES:Church Wide,Recovery
ATTACH;FMTTYPE=image/png:https://onecity.church/wp-content/uploads/2024/06/5x7-front.png
END:VEVENT
BEGIN:VEVENT
DTSTART;TZID=America/Chicago:20251203T183000
DTEND;TZID=America/Chicago:20251203T200000
DTSTAMP:20260425T055413
CREATED:20240607T034316Z
LAST-MODIFIED:20240607T034459Z
UID:10002595-1764786600-1764792000@onecity.church
SUMMARY:One City Youth Service
DESCRIPTION:One City Youth meets in building 4 at 6:30pm
URL:https://onecity.church/event/ocy-service/2025-12-03/
LOCATION:One City Church\, 2350 Eastex Freeway\, Beaumont\, TX\, 77703\, United States
CATEGORIES:Church Wide
END:VEVENT
BEGIN:VEVENT
DTSTART;TZID=America/Chicago:20251203T183000
DTEND;TZID=America/Chicago:20251203T193000
DTSTAMP:20260425T055413
CREATED:20240105T235620Z
LAST-MODIFIED:20240606T155212Z
UID:10001646-1764786600-1764790200@onecity.church
SUMMARY:Small Groups
DESCRIPTION:Have you joined a Small Group yet! \nWe have many small groups meeting all around the golden triangle and would love for you jump in and join us. \nTo find a group near you go to www.onecity.church/smallgroups
URL:https://onecity.church/event/small-groups/2025-12-03/
LOCATION:One City Church\, 2350 Eastex Freeway\, Beaumont\, TX\, 77703\, United States
CATEGORIES:Church Wide
END:VEVENT
BEGIN:VEVENT
DTSTART;TZID=America/Chicago:20251130T180000
DTEND;TZID=America/Chicago:20251130T190000
DTSTAMP:20260425T055413
CREATED:20240105T235721Z
LAST-MODIFIED:20240606T154833Z
UID:10001906-1764525600-1764529200@onecity.church
SUMMARY:Small Groups
DESCRIPTION:Have you joined a Small Group yet! \nWe have many small groups meeting all around the golden triangle and would love for you jump in and join us. \nTo find a group near you go to www.onecity.church/smallgroups
URL:https://onecity.church/event/small-groups-2/2025-11-30/
LOCATION:One City Church\, 2350 Eastex Freeway\, Beaumont\, TX\, 77703\, United States
CATEGORIES:Church Wide
END:VEVENT
BEGIN:VEVENT
DTSTART;TZID=America/Chicago:20251127T180000
DTEND;TZID=America/Chicago:20251127T200000
DTSTAMP:20260425T055413
CREATED:20240606T202843Z
LAST-MODIFIED:20240815T193438Z
UID:10002333-1764266400-1764273600@onecity.church
SUMMARY:One City Recovery
DESCRIPTION:What is One City Recovery?\n\n\n\nOne City Recovery is a Christ -centered recovery community that helps you find freedom from the issues that are controlling your life. \nThrough the biblically based 12 step program of Recovery Alive\, we are allowing the power and presence of Jesus to radically change our lives and restore hope. \nYou do not have to recover alone. We have a place for you to start over. \nOne City Recovery | You belong here. \nWe meet every Thursday starting at 6pm in the One City Church Event Center.
URL:https://onecity.church/event/one-city-recovery/2025-11-27/
LOCATION:One City Event Center
CATEGORIES:Church Wide,Recovery
ATTACH;FMTTYPE=image/png:https://onecity.church/wp-content/uploads/2024/06/5x7-front.png
END:VEVENT
BEGIN:VEVENT
DTSTART;TZID=America/Chicago:20251126T183000
DTEND;TZID=America/Chicago:20251126T200000
DTSTAMP:20260425T055413
CREATED:20240607T034316Z
LAST-MODIFIED:20240607T034459Z
UID:10002594-1764181800-1764187200@onecity.church
SUMMARY:One City Youth Service
DESCRIPTION:One City Youth meets in building 4 at 6:30pm
URL:https://onecity.church/event/ocy-service/2025-11-26/
LOCATION:One City Church\, 2350 Eastex Freeway\, Beaumont\, TX\, 77703\, United States
CATEGORIES:Church Wide
END:VEVENT
BEGIN:VEVENT
DTSTART;TZID=America/Chicago:20251126T183000
DTEND;TZID=America/Chicago:20251126T193000
DTSTAMP:20260425T055413
CREATED:20240105T235620Z
LAST-MODIFIED:20240606T155212Z
UID:10001645-1764181800-1764185400@onecity.church
SUMMARY:Small Groups
DESCRIPTION:Have you joined a Small Group yet! \nWe have many small groups meeting all around the golden triangle and would love for you jump in and join us. \nTo find a group near you go to www.onecity.church/smallgroups
URL:https://onecity.church/event/small-groups/2025-11-26/
LOCATION:One City Church\, 2350 Eastex Freeway\, Beaumont\, TX\, 77703\, United States
CATEGORIES:Church Wide
END:VEVENT
BEGIN:VEVENT
DTSTART;TZID=America/Chicago:20251123T180000
DTEND;TZID=America/Chicago:20251123T190000
DTSTAMP:20260425T055413
CREATED:20240105T235721Z
LAST-MODIFIED:20240606T154833Z
UID:10001905-1763920800-1763924400@onecity.church
SUMMARY:Small Groups
DESCRIPTION:Have you joined a Small Group yet! \nWe have many small groups meeting all around the golden triangle and would love for you jump in and join us. \nTo find a group near you go to www.onecity.church/smallgroups
URL:https://onecity.church/event/small-groups-2/2025-11-23/
LOCATION:One City Church\, 2350 Eastex Freeway\, Beaumont\, TX\, 77703\, United States
CATEGORIES:Church Wide
END:VEVENT
BEGIN:VEVENT
DTSTART;TZID=America/Chicago:20251120T180000
DTEND;TZID=America/Chicago:20251120T200000
DTSTAMP:20260425T055413
CREATED:20240606T202843Z
LAST-MODIFIED:20240815T193438Z
UID:10002332-1763661600-1763668800@onecity.church
SUMMARY:One City Recovery
DESCRIPTION:What is One City Recovery?\n\n\n\nOne City Recovery is a Christ -centered recovery community that helps you find freedom from the issues that are controlling your life. \nThrough the biblically based 12 step program of Recovery Alive\, we are allowing the power and presence of Jesus to radically change our lives and restore hope. \nYou do not have to recover alone. We have a place for you to start over. \nOne City Recovery | You belong here. \nWe meet every Thursday starting at 6pm in the One City Church Event Center.
URL:https://onecity.church/event/one-city-recovery/2025-11-20/
LOCATION:One City Event Center
CATEGORIES:Church Wide,Recovery
ATTACH;FMTTYPE=image/png:https://onecity.church/wp-content/uploads/2024/06/5x7-front.png
END:VEVENT
BEGIN:VEVENT
DTSTART;TZID=America/Chicago:20251119T183000
DTEND;TZID=America/Chicago:20251119T200000
DTSTAMP:20260425T055413
CREATED:20240607T034316Z
LAST-MODIFIED:20240607T034459Z
UID:10002593-1763577000-1763582400@onecity.church
SUMMARY:One City Youth Service
DESCRIPTION:One City Youth meets in building 4 at 6:30pm
URL:https://onecity.church/event/ocy-service/2025-11-19/
LOCATION:One City Church\, 2350 Eastex Freeway\, Beaumont\, TX\, 77703\, United States
CATEGORIES:Church Wide
END:VEVENT
BEGIN:VEVENT
DTSTART;TZID=America/Chicago:20251119T183000
DTEND;TZID=America/Chicago:20251119T193000
DTSTAMP:20260425T055413
CREATED:20240105T235620Z
LAST-MODIFIED:20240606T155212Z
UID:10001644-1763577000-1763580600@onecity.church
SUMMARY:Small Groups
DESCRIPTION:Have you joined a Small Group yet! \nWe have many small groups meeting all around the golden triangle and would love for you jump in and join us. \nTo find a group near you go to www.onecity.church/smallgroups
URL:https://onecity.church/event/small-groups/2025-11-19/
LOCATION:One City Church\, 2350 Eastex Freeway\, Beaumont\, TX\, 77703\, United States
CATEGORIES:Church Wide
END:VEVENT
BEGIN:VEVENT
DTSTART;TZID=America/Chicago:20251116T180000
DTEND;TZID=America/Chicago:20251116T190000
DTSTAMP:20260425T055413
CREATED:20240105T235721Z
LAST-MODIFIED:20240606T154833Z
UID:10001904-1763316000-1763319600@onecity.church
SUMMARY:Small Groups
DESCRIPTION:Have you joined a Small Group yet! \nWe have many small groups meeting all around the golden triangle and would love for you jump in and join us. \nTo find a group near you go to www.onecity.church/smallgroups
URL:https://onecity.church/event/small-groups-2/2025-11-16/
LOCATION:One City Church\, 2350 Eastex Freeway\, Beaumont\, TX\, 77703\, United States
CATEGORIES:Church Wide
END:VEVENT
BEGIN:VEVENT
DTSTART;TZID=America/Chicago:20251113T180000
DTEND;TZID=America/Chicago:20251113T200000
DTSTAMP:20260425T055413
CREATED:20240606T202843Z
LAST-MODIFIED:20240815T193438Z
UID:10002331-1763056800-1763064000@onecity.church
SUMMARY:One City Recovery
DESCRIPTION:What is One City Recovery?\n\n\n\nOne City Recovery is a Christ -centered recovery community that helps you find freedom from the issues that are controlling your life. \nThrough the biblically based 12 step program of Recovery Alive\, we are allowing the power and presence of Jesus to radically change our lives and restore hope. \nYou do not have to recover alone. We have a place for you to start over. \nOne City Recovery | You belong here. \nWe meet every Thursday starting at 6pm in the One City Church Event Center.
URL:https://onecity.church/event/one-city-recovery/2025-11-13/
LOCATION:One City Event Center
CATEGORIES:Church Wide,Recovery
ATTACH;FMTTYPE=image/png:https://onecity.church/wp-content/uploads/2024/06/5x7-front.png
END:VEVENT
BEGIN:VEVENT
DTSTART;TZID=America/Chicago:20251112T183000
DTEND;TZID=America/Chicago:20251112T200000
DTSTAMP:20260425T055413
CREATED:20240607T034316Z
LAST-MODIFIED:20240607T034459Z
UID:10002592-1762972200-1762977600@onecity.church
SUMMARY:One City Youth Service
DESCRIPTION:One City Youth meets in building 4 at 6:30pm
URL:https://onecity.church/event/ocy-service/2025-11-12/
LOCATION:One City Church\, 2350 Eastex Freeway\, Beaumont\, TX\, 77703\, United States
CATEGORIES:Church Wide
END:VEVENT
BEGIN:VEVENT
DTSTART;TZID=America/Chicago:20251112T183000
DTEND;TZID=America/Chicago:20251112T193000
DTSTAMP:20260425T055413
CREATED:20240105T235620Z
LAST-MODIFIED:20240606T155212Z
UID:10001643-1762972200-1762975800@onecity.church
SUMMARY:Small Groups
DESCRIPTION:Have you joined a Small Group yet! \nWe have many small groups meeting all around the golden triangle and would love for you jump in and join us. \nTo find a group near you go to www.onecity.church/smallgroups
URL:https://onecity.church/event/small-groups/2025-11-12/
LOCATION:One City Church\, 2350 Eastex Freeway\, Beaumont\, TX\, 77703\, United States
CATEGORIES:Church Wide
END:VEVENT
BEGIN:VEVENT
DTSTART;TZID=America/Chicago:20251109T180000
DTEND;TZID=America/Chicago:20251109T190000
DTSTAMP:20260425T055413
CREATED:20240105T235721Z
LAST-MODIFIED:20240606T154833Z
UID:10001903-1762711200-1762714800@onecity.church
SUMMARY:Small Groups
DESCRIPTION:Have you joined a Small Group yet! \nWe have many small groups meeting all around the golden triangle and would love for you jump in and join us. \nTo find a group near you go to www.onecity.church/smallgroups
URL:https://onecity.church/event/small-groups-2/2025-11-09/
LOCATION:One City Church\, 2350 Eastex Freeway\, Beaumont\, TX\, 77703\, United States
CATEGORIES:Church Wide
END:VEVENT
BEGIN:VEVENT
DTSTART;TZID=America/Chicago:20251106T180000
DTEND;TZID=America/Chicago:20251106T200000
DTSTAMP:20260425T055414
CREATED:20240606T202843Z
LAST-MODIFIED:20240815T193438Z
UID:10002330-1762452000-1762459200@onecity.church
SUMMARY:One City Recovery
DESCRIPTION:What is One City Recovery?\n\n\n\nOne City Recovery is a Christ -centered recovery community that helps you find freedom from the issues that are controlling your life. \nThrough the biblically based 12 step program of Recovery Alive\, we are allowing the power and presence of Jesus to radically change our lives and restore hope. \nYou do not have to recover alone. We have a place for you to start over. \nOne City Recovery | You belong here. \nWe meet every Thursday starting at 6pm in the One City Church Event Center.
URL:https://onecity.church/event/one-city-recovery/2025-11-06/
LOCATION:One City Event Center
CATEGORIES:Church Wide,Recovery
ATTACH;FMTTYPE=image/png:https://onecity.church/wp-content/uploads/2024/06/5x7-front.png
END:VEVENT
BEGIN:VEVENT
DTSTART;TZID=America/Chicago:20251106T110000
DTEND;TZID=America/Chicago:20251106T123000
DTSTAMP:20260425T055414
CREATED:20250915T135228Z
LAST-MODIFIED:20251112T180446Z
UID:10003289-1762426800-1762432200@onecity.church
SUMMARY:Freedom Journey: Thursdays (Fall 2025)
DESCRIPTION:Freedom Journey begins August 17! \nWe’re so excited to see how God is going to move as His children draw closer to Him and experience true freedom! \nFor this season of Freedom Journey we’re offering three meeting time options each week—choose the one that works best for you: \n📅 Sundays at 8:45 AM – Starting August 17\n📅 Wednesdays at 6:30 PM – Starting August 20\n📅 Thursdays at 11:00 AM – Starting August 21 \n📍All classes will meet in the Freedom Room near the café. \nIf you haven’t signed up yet\, don’t miss this opportunity to grow deeper in your walk with God and walk in lasting freedom! \n👉 To sign up and order your Freedom Journey book\, click here. \n📞 Have questions or need help getting plugged in? Contact Pastor Amy Everett at the church office: 409-892-8475\, ext. 2226 \nLet’s take this journey together! \n(Please note\, sign ups for this class will close on September 5)
URL:https://onecity.church/event/freedom-journey-thursdays-fall-2025/2025-11-06/
LOCATION:One City Church\, 2350 Eastex Freeway\, Beaumont\, TX\, 77703\, United States
CATEGORIES:Church Wide
ATTACH;FMTTYPE=image/png:https://onecity.church/wp-content/uploads/2025/09/Freedom-Journey-F1-form.png
END:VEVENT
END:VCALENDAR