BEGIN:VCALENDAR
VERSION:2.0
PRODID:-//One City Church - ECPv6.15.19//NONSGML v1.0//EN
CALSCALE:GREGORIAN
METHOD:PUBLISH
X-WR-CALNAME:One City Church
X-ORIGINAL-URL:https://onecity.church
X-WR-CALDESC:Events for One City Church
REFRESH-INTERVAL;VALUE=DURATION:PT1H
X-Robots-Tag:noindex
X-PUBLISHED-TTL:PT1H
BEGIN:VTIMEZONE
TZID:America/Chicago
BEGIN:DAYLIGHT
TZOFFSETFROM:-0600
TZOFFSETTO:-0500
TZNAME:CDT
DTSTART:20250309T080000
END:DAYLIGHT
BEGIN:STANDARD
TZOFFSETFROM:-0500
TZOFFSETTO:-0600
TZNAME:CST
DTSTART:20251102T070000
END:STANDARD
BEGIN:DAYLIGHT
TZOFFSETFROM:-0600
TZOFFSETTO:-0500
TZNAME:CDT
DTSTART:20260308T080000
END:DAYLIGHT
BEGIN:STANDARD
TZOFFSETFROM:-0500
TZOFFSETTO:-0600
TZNAME:CST
DTSTART:20261101T070000
END:STANDARD
BEGIN:DAYLIGHT
TZOFFSETFROM:-0600
TZOFFSETTO:-0500
TZNAME:CDT
DTSTART:20270314T080000
END:DAYLIGHT
BEGIN:STANDARD
TZOFFSETFROM:-0500
TZOFFSETTO:-0600
TZNAME:CST
DTSTART:20271107T070000
END:STANDARD
END:VTIMEZONE
BEGIN:VEVENT
DTSTART;TZID=America/Chicago:20260927T180000
DTEND;TZID=America/Chicago:20260927T190000
DTSTAMP:20260424T190900
CREATED:20240105T235721Z
LAST-MODIFIED:20240606T154833Z
UID:10001949-1790532000-1790535600@onecity.church
SUMMARY:Small Groups
DESCRIPTION:Have you joined a Small Group yet! \nWe have many small groups meeting all around the golden triangle and would love for you jump in and join us. \nTo find a group near you go to www.onecity.church/smallgroups
URL:https://onecity.church/event/small-groups-2/2026-09-27/
LOCATION:One City Church\, 2350 Eastex Freeway\, Beaumont\, TX\, 77703\, United States
CATEGORIES:Church Wide
END:VEVENT
BEGIN:VEVENT
DTSTART;TZID=America/Chicago:20260930T183000
DTEND;TZID=America/Chicago:20260930T193000
DTSTAMP:20260424T190900
CREATED:20240105T235620Z
LAST-MODIFIED:20240606T155212Z
UID:10001689-1790793000-1790796600@onecity.church
SUMMARY:Small Groups
DESCRIPTION:Have you joined a Small Group yet! \nWe have many small groups meeting all around the golden triangle and would love for you jump in and join us. \nTo find a group near you go to www.onecity.church/smallgroups
URL:https://onecity.church/event/small-groups/2026-09-30/
LOCATION:One City Church\, 2350 Eastex Freeway\, Beaumont\, TX\, 77703\, United States
CATEGORIES:Church Wide
END:VEVENT
BEGIN:VEVENT
DTSTART;TZID=America/Chicago:20260930T183000
DTEND;TZID=America/Chicago:20260930T200000
DTSTAMP:20260424T190900
CREATED:20240607T034316Z
LAST-MODIFIED:20240607T034459Z
UID:10002638-1790793000-1790798400@onecity.church
SUMMARY:One City Youth Service
DESCRIPTION:One City Youth meets in building 4 at 6:30pm
URL:https://onecity.church/event/ocy-service/2026-09-30/
LOCATION:One City Church\, 2350 Eastex Freeway\, Beaumont\, TX\, 77703\, United States
CATEGORIES:Church Wide
END:VEVENT
BEGIN:VEVENT
DTSTART;TZID=America/Chicago:20261001T180000
DTEND;TZID=America/Chicago:20261001T200000
DTSTAMP:20260424T190900
CREATED:20240606T202843Z
LAST-MODIFIED:20240815T193438Z
UID:10002377-1790877600-1790884800@onecity.church
SUMMARY:One City Recovery
DESCRIPTION:What is One City Recovery?\n\n\n\nOne City Recovery is a Christ -centered recovery community that helps you find freedom from the issues that are controlling your life. \nThrough the biblically based 12 step program of Recovery Alive\, we are allowing the power and presence of Jesus to radically change our lives and restore hope. \nYou do not have to recover alone. We have a place for you to start over. \nOne City Recovery | You belong here. \nWe meet every Thursday starting at 6pm in the One City Church Event Center.
URL:https://onecity.church/event/one-city-recovery/2026-10-01/
LOCATION:One City Event Center
CATEGORIES:Church Wide,Recovery
ATTACH;FMTTYPE=image/png:https://onecity.church/wp-content/uploads/2024/06/5x7-front.png
END:VEVENT
BEGIN:VEVENT
DTSTART;TZID=America/Chicago:20261004T180000
DTEND;TZID=America/Chicago:20261004T190000
DTSTAMP:20260424T190900
CREATED:20240105T235721Z
LAST-MODIFIED:20240606T154833Z
UID:10001950-1791136800-1791140400@onecity.church
SUMMARY:Small Groups
DESCRIPTION:Have you joined a Small Group yet! \nWe have many small groups meeting all around the golden triangle and would love for you jump in and join us. \nTo find a group near you go to www.onecity.church/smallgroups
URL:https://onecity.church/event/small-groups-2/2026-10-04/
LOCATION:One City Church\, 2350 Eastex Freeway\, Beaumont\, TX\, 77703\, United States
CATEGORIES:Church Wide
END:VEVENT
BEGIN:VEVENT
DTSTART;TZID=America/Chicago:20261007T183000
DTEND;TZID=America/Chicago:20261007T193000
DTSTAMP:20260424T190900
CREATED:20240105T235620Z
LAST-MODIFIED:20240606T155212Z
UID:10001690-1791397800-1791401400@onecity.church
SUMMARY:Small Groups
DESCRIPTION:Have you joined a Small Group yet! \nWe have many small groups meeting all around the golden triangle and would love for you jump in and join us. \nTo find a group near you go to www.onecity.church/smallgroups
URL:https://onecity.church/event/small-groups/2026-10-07/
LOCATION:One City Church\, 2350 Eastex Freeway\, Beaumont\, TX\, 77703\, United States
CATEGORIES:Church Wide
END:VEVENT
BEGIN:VEVENT
DTSTART;TZID=America/Chicago:20261007T183000
DTEND;TZID=America/Chicago:20261007T200000
DTSTAMP:20260424T190900
CREATED:20240607T034316Z
LAST-MODIFIED:20240607T034459Z
UID:10002639-1791397800-1791403200@onecity.church
SUMMARY:One City Youth Service
DESCRIPTION:One City Youth meets in building 4 at 6:30pm
URL:https://onecity.church/event/ocy-service/2026-10-07/
LOCATION:One City Church\, 2350 Eastex Freeway\, Beaumont\, TX\, 77703\, United States
CATEGORIES:Church Wide
END:VEVENT
BEGIN:VEVENT
DTSTART;TZID=America/Chicago:20261008T180000
DTEND;TZID=America/Chicago:20261008T200000
DTSTAMP:20260424T190900
CREATED:20240606T202843Z
LAST-MODIFIED:20240815T193438Z
UID:10002378-1791482400-1791489600@onecity.church
SUMMARY:One City Recovery
DESCRIPTION:What is One City Recovery?\n\n\n\nOne City Recovery is a Christ -centered recovery community that helps you find freedom from the issues that are controlling your life. \nThrough the biblically based 12 step program of Recovery Alive\, we are allowing the power and presence of Jesus to radically change our lives and restore hope. \nYou do not have to recover alone. We have a place for you to start over. \nOne City Recovery | You belong here. \nWe meet every Thursday starting at 6pm in the One City Church Event Center.
URL:https://onecity.church/event/one-city-recovery/2026-10-08/
LOCATION:One City Event Center
CATEGORIES:Church Wide,Recovery
ATTACH;FMTTYPE=image/png:https://onecity.church/wp-content/uploads/2024/06/5x7-front.png
END:VEVENT
BEGIN:VEVENT
DTSTART;TZID=America/Chicago:20261011T180000
DTEND;TZID=America/Chicago:20261011T190000
DTSTAMP:20260424T190900
CREATED:20240105T235721Z
LAST-MODIFIED:20240606T154833Z
UID:10001951-1791741600-1791745200@onecity.church
SUMMARY:Small Groups
DESCRIPTION:Have you joined a Small Group yet! \nWe have many small groups meeting all around the golden triangle and would love for you jump in and join us. \nTo find a group near you go to www.onecity.church/smallgroups
URL:https://onecity.church/event/small-groups-2/2026-10-11/
LOCATION:One City Church\, 2350 Eastex Freeway\, Beaumont\, TX\, 77703\, United States
CATEGORIES:Church Wide
END:VEVENT
BEGIN:VEVENT
DTSTART;TZID=America/Chicago:20261014T183000
DTEND;TZID=America/Chicago:20261014T193000
DTSTAMP:20260424T190900
CREATED:20240105T235620Z
LAST-MODIFIED:20240606T155212Z
UID:10001691-1792002600-1792006200@onecity.church
SUMMARY:Small Groups
DESCRIPTION:Have you joined a Small Group yet! \nWe have many small groups meeting all around the golden triangle and would love for you jump in and join us. \nTo find a group near you go to www.onecity.church/smallgroups
URL:https://onecity.church/event/small-groups/2026-10-14/
LOCATION:One City Church\, 2350 Eastex Freeway\, Beaumont\, TX\, 77703\, United States
CATEGORIES:Church Wide
END:VEVENT
BEGIN:VEVENT
DTSTART;TZID=America/Chicago:20261014T183000
DTEND;TZID=America/Chicago:20261014T200000
DTSTAMP:20260424T190900
CREATED:20240607T034316Z
LAST-MODIFIED:20240607T034459Z
UID:10002640-1792002600-1792008000@onecity.church
SUMMARY:One City Youth Service
DESCRIPTION:One City Youth meets in building 4 at 6:30pm
URL:https://onecity.church/event/ocy-service/2026-10-14/
LOCATION:One City Church\, 2350 Eastex Freeway\, Beaumont\, TX\, 77703\, United States
CATEGORIES:Church Wide
END:VEVENT
BEGIN:VEVENT
DTSTART;TZID=America/Chicago:20261015T180000
DTEND;TZID=America/Chicago:20261015T200000
DTSTAMP:20260424T190900
CREATED:20240606T202843Z
LAST-MODIFIED:20240815T193438Z
UID:10002379-1792087200-1792094400@onecity.church
SUMMARY:One City Recovery
DESCRIPTION:What is One City Recovery?\n\n\n\nOne City Recovery is a Christ -centered recovery community that helps you find freedom from the issues that are controlling your life. \nThrough the biblically based 12 step program of Recovery Alive\, we are allowing the power and presence of Jesus to radically change our lives and restore hope. \nYou do not have to recover alone. We have a place for you to start over. \nOne City Recovery | You belong here. \nWe meet every Thursday starting at 6pm in the One City Church Event Center.
URL:https://onecity.church/event/one-city-recovery/2026-10-15/
LOCATION:One City Event Center
CATEGORIES:Church Wide,Recovery
ATTACH;FMTTYPE=image/png:https://onecity.church/wp-content/uploads/2024/06/5x7-front.png
END:VEVENT
BEGIN:VEVENT
DTSTART;TZID=America/Chicago:20261018T180000
DTEND;TZID=America/Chicago:20261018T190000
DTSTAMP:20260424T190900
CREATED:20240105T235721Z
LAST-MODIFIED:20240606T154833Z
UID:10001952-1792346400-1792350000@onecity.church
SUMMARY:Small Groups
DESCRIPTION:Have you joined a Small Group yet! \nWe have many small groups meeting all around the golden triangle and would love for you jump in and join us. \nTo find a group near you go to www.onecity.church/smallgroups
URL:https://onecity.church/event/small-groups-2/2026-10-18/
LOCATION:One City Church\, 2350 Eastex Freeway\, Beaumont\, TX\, 77703\, United States
CATEGORIES:Church Wide
END:VEVENT
BEGIN:VEVENT
DTSTART;TZID=America/Chicago:20261021T183000
DTEND;TZID=America/Chicago:20261021T193000
DTSTAMP:20260424T190900
CREATED:20240105T235620Z
LAST-MODIFIED:20240606T155212Z
UID:10001692-1792607400-1792611000@onecity.church
SUMMARY:Small Groups
DESCRIPTION:Have you joined a Small Group yet! \nWe have many small groups meeting all around the golden triangle and would love for you jump in and join us. \nTo find a group near you go to www.onecity.church/smallgroups
URL:https://onecity.church/event/small-groups/2026-10-21/
LOCATION:One City Church\, 2350 Eastex Freeway\, Beaumont\, TX\, 77703\, United States
CATEGORIES:Church Wide
END:VEVENT
BEGIN:VEVENT
DTSTART;TZID=America/Chicago:20261021T183000
DTEND;TZID=America/Chicago:20261021T200000
DTSTAMP:20260424T190900
CREATED:20240607T034316Z
LAST-MODIFIED:20240607T034459Z
UID:10002641-1792607400-1792612800@onecity.church
SUMMARY:One City Youth Service
DESCRIPTION:One City Youth meets in building 4 at 6:30pm
URL:https://onecity.church/event/ocy-service/2026-10-21/
LOCATION:One City Church\, 2350 Eastex Freeway\, Beaumont\, TX\, 77703\, United States
CATEGORIES:Church Wide
END:VEVENT
BEGIN:VEVENT
DTSTART;TZID=America/Chicago:20261022T180000
DTEND;TZID=America/Chicago:20261022T200000
DTSTAMP:20260424T190900
CREATED:20240606T202843Z
LAST-MODIFIED:20240815T193438Z
UID:10002380-1792692000-1792699200@onecity.church
SUMMARY:One City Recovery
DESCRIPTION:What is One City Recovery?\n\n\n\nOne City Recovery is a Christ -centered recovery community that helps you find freedom from the issues that are controlling your life. \nThrough the biblically based 12 step program of Recovery Alive\, we are allowing the power and presence of Jesus to radically change our lives and restore hope. \nYou do not have to recover alone. We have a place for you to start over. \nOne City Recovery | You belong here. \nWe meet every Thursday starting at 6pm in the One City Church Event Center.
URL:https://onecity.church/event/one-city-recovery/2026-10-22/
LOCATION:One City Event Center
CATEGORIES:Church Wide,Recovery
ATTACH;FMTTYPE=image/png:https://onecity.church/wp-content/uploads/2024/06/5x7-front.png
END:VEVENT
BEGIN:VEVENT
DTSTART;TZID=America/Chicago:20261025T180000
DTEND;TZID=America/Chicago:20261025T190000
DTSTAMP:20260424T190900
CREATED:20240105T235721Z
LAST-MODIFIED:20240606T154833Z
UID:10001953-1792951200-1792954800@onecity.church
SUMMARY:Small Groups
DESCRIPTION:Have you joined a Small Group yet! \nWe have many small groups meeting all around the golden triangle and would love for you jump in and join us. \nTo find a group near you go to www.onecity.church/smallgroups
URL:https://onecity.church/event/small-groups-2/2026-10-25/
LOCATION:One City Church\, 2350 Eastex Freeway\, Beaumont\, TX\, 77703\, United States
CATEGORIES:Church Wide
END:VEVENT
BEGIN:VEVENT
DTSTART;TZID=America/Chicago:20261028T183000
DTEND;TZID=America/Chicago:20261028T193000
DTSTAMP:20260424T190900
CREATED:20240105T235620Z
LAST-MODIFIED:20240606T155212Z
UID:10001693-1793212200-1793215800@onecity.church
SUMMARY:Small Groups
DESCRIPTION:Have you joined a Small Group yet! \nWe have many small groups meeting all around the golden triangle and would love for you jump in and join us. \nTo find a group near you go to www.onecity.church/smallgroups
URL:https://onecity.church/event/small-groups/2026-10-28/
LOCATION:One City Church\, 2350 Eastex Freeway\, Beaumont\, TX\, 77703\, United States
CATEGORIES:Church Wide
END:VEVENT
BEGIN:VEVENT
DTSTART;TZID=America/Chicago:20261028T183000
DTEND;TZID=America/Chicago:20261028T200000
DTSTAMP:20260424T190900
CREATED:20240607T034316Z
LAST-MODIFIED:20240607T034459Z
UID:10002642-1793212200-1793217600@onecity.church
SUMMARY:One City Youth Service
DESCRIPTION:One City Youth meets in building 4 at 6:30pm
URL:https://onecity.church/event/ocy-service/2026-10-28/
LOCATION:One City Church\, 2350 Eastex Freeway\, Beaumont\, TX\, 77703\, United States
CATEGORIES:Church Wide
END:VEVENT
BEGIN:VEVENT
DTSTART;TZID=America/Chicago:20261029T180000
DTEND;TZID=America/Chicago:20261029T200000
DTSTAMP:20260424T190900
CREATED:20240606T202843Z
LAST-MODIFIED:20240815T193438Z
UID:10002381-1793296800-1793304000@onecity.church
SUMMARY:One City Recovery
DESCRIPTION:What is One City Recovery?\n\n\n\nOne City Recovery is a Christ -centered recovery community that helps you find freedom from the issues that are controlling your life. \nThrough the biblically based 12 step program of Recovery Alive\, we are allowing the power and presence of Jesus to radically change our lives and restore hope. \nYou do not have to recover alone. We have a place for you to start over. \nOne City Recovery | You belong here. \nWe meet every Thursday starting at 6pm in the One City Church Event Center.
URL:https://onecity.church/event/one-city-recovery/2026-10-29/
LOCATION:One City Event Center
CATEGORIES:Church Wide,Recovery
ATTACH;FMTTYPE=image/png:https://onecity.church/wp-content/uploads/2024/06/5x7-front.png
END:VEVENT
BEGIN:VEVENT
DTSTART;TZID=America/Chicago:20261101T180000
DTEND;TZID=America/Chicago:20261101T190000
DTSTAMP:20260424T190900
CREATED:20240105T235721Z
LAST-MODIFIED:20240606T154833Z
UID:10001954-1793556000-1793559600@onecity.church
SUMMARY:Small Groups
DESCRIPTION:Have you joined a Small Group yet! \nWe have many small groups meeting all around the golden triangle and would love for you jump in and join us. \nTo find a group near you go to www.onecity.church/smallgroups
URL:https://onecity.church/event/small-groups-2/2026-11-01/
LOCATION:One City Church\, 2350 Eastex Freeway\, Beaumont\, TX\, 77703\, United States
CATEGORIES:Church Wide
END:VEVENT
BEGIN:VEVENT
DTSTART;TZID=America/Chicago:20261104T183000
DTEND;TZID=America/Chicago:20261104T193000
DTSTAMP:20260424T190900
CREATED:20240105T235620Z
LAST-MODIFIED:20240606T155212Z
UID:10001694-1793817000-1793820600@onecity.church
SUMMARY:Small Groups
DESCRIPTION:Have you joined a Small Group yet! \nWe have many small groups meeting all around the golden triangle and would love for you jump in and join us. \nTo find a group near you go to www.onecity.church/smallgroups
URL:https://onecity.church/event/small-groups/2026-11-04/
LOCATION:One City Church\, 2350 Eastex Freeway\, Beaumont\, TX\, 77703\, United States
CATEGORIES:Church Wide
END:VEVENT
BEGIN:VEVENT
DTSTART;TZID=America/Chicago:20261104T183000
DTEND;TZID=America/Chicago:20261104T200000
DTSTAMP:20260424T190900
CREATED:20240607T034316Z
LAST-MODIFIED:20240607T034459Z
UID:10002643-1793817000-1793822400@onecity.church
SUMMARY:One City Youth Service
DESCRIPTION:One City Youth meets in building 4 at 6:30pm
URL:https://onecity.church/event/ocy-service/2026-11-04/
LOCATION:One City Church\, 2350 Eastex Freeway\, Beaumont\, TX\, 77703\, United States
CATEGORIES:Church Wide
END:VEVENT
BEGIN:VEVENT
DTSTART;TZID=America/Chicago:20261105T180000
DTEND;TZID=America/Chicago:20261105T200000
DTSTAMP:20260424T190900
CREATED:20240606T202843Z
LAST-MODIFIED:20240815T193438Z
UID:10002382-1793901600-1793908800@onecity.church
SUMMARY:One City Recovery
DESCRIPTION:What is One City Recovery?\n\n\n\nOne City Recovery is a Christ -centered recovery community that helps you find freedom from the issues that are controlling your life. \nThrough the biblically based 12 step program of Recovery Alive\, we are allowing the power and presence of Jesus to radically change our lives and restore hope. \nYou do not have to recover alone. We have a place for you to start over. \nOne City Recovery | You belong here. \nWe meet every Thursday starting at 6pm in the One City Church Event Center.
URL:https://onecity.church/event/one-city-recovery/2026-11-05/
LOCATION:One City Event Center
CATEGORIES:Church Wide,Recovery
ATTACH;FMTTYPE=image/png:https://onecity.church/wp-content/uploads/2024/06/5x7-front.png
END:VEVENT
BEGIN:VEVENT
DTSTART;TZID=America/Chicago:20261108T180000
DTEND;TZID=America/Chicago:20261108T190000
DTSTAMP:20260424T190900
CREATED:20240105T235721Z
LAST-MODIFIED:20240606T154833Z
UID:10001955-1794160800-1794164400@onecity.church
SUMMARY:Small Groups
DESCRIPTION:Have you joined a Small Group yet! \nWe have many small groups meeting all around the golden triangle and would love for you jump in and join us. \nTo find a group near you go to www.onecity.church/smallgroups
URL:https://onecity.church/event/small-groups-2/2026-11-08/
LOCATION:One City Church\, 2350 Eastex Freeway\, Beaumont\, TX\, 77703\, United States
CATEGORIES:Church Wide
END:VEVENT
BEGIN:VEVENT
DTSTART;TZID=America/Chicago:20261111T183000
DTEND;TZID=America/Chicago:20261111T193000
DTSTAMP:20260424T190900
CREATED:20240105T235620Z
LAST-MODIFIED:20240606T155212Z
UID:10001695-1794421800-1794425400@onecity.church
SUMMARY:Small Groups
DESCRIPTION:Have you joined a Small Group yet! \nWe have many small groups meeting all around the golden triangle and would love for you jump in and join us. \nTo find a group near you go to www.onecity.church/smallgroups
URL:https://onecity.church/event/small-groups/2026-11-11/
LOCATION:One City Church\, 2350 Eastex Freeway\, Beaumont\, TX\, 77703\, United States
CATEGORIES:Church Wide
END:VEVENT
BEGIN:VEVENT
DTSTART;TZID=America/Chicago:20261111T183000
DTEND;TZID=America/Chicago:20261111T200000
DTSTAMP:20260424T190900
CREATED:20240607T034316Z
LAST-MODIFIED:20240607T034459Z
UID:10002644-1794421800-1794427200@onecity.church
SUMMARY:One City Youth Service
DESCRIPTION:One City Youth meets in building 4 at 6:30pm
URL:https://onecity.church/event/ocy-service/2026-11-11/
LOCATION:One City Church\, 2350 Eastex Freeway\, Beaumont\, TX\, 77703\, United States
CATEGORIES:Church Wide
END:VEVENT
BEGIN:VEVENT
DTSTART;TZID=America/Chicago:20261112T180000
DTEND;TZID=America/Chicago:20261112T200000
DTSTAMP:20260424T190900
CREATED:20240606T202843Z
LAST-MODIFIED:20240815T193438Z
UID:10002383-1794506400-1794513600@onecity.church
SUMMARY:One City Recovery
DESCRIPTION:What is One City Recovery?\n\n\n\nOne City Recovery is a Christ -centered recovery community that helps you find freedom from the issues that are controlling your life. \nThrough the biblically based 12 step program of Recovery Alive\, we are allowing the power and presence of Jesus to radically change our lives and restore hope. \nYou do not have to recover alone. We have a place for you to start over. \nOne City Recovery | You belong here. \nWe meet every Thursday starting at 6pm in the One City Church Event Center.
URL:https://onecity.church/event/one-city-recovery/2026-11-12/
LOCATION:One City Event Center
CATEGORIES:Church Wide,Recovery
ATTACH;FMTTYPE=image/png:https://onecity.church/wp-content/uploads/2024/06/5x7-front.png
END:VEVENT
BEGIN:VEVENT
DTSTART;TZID=America/Chicago:20261115T180000
DTEND;TZID=America/Chicago:20261115T190000
DTSTAMP:20260424T190900
CREATED:20240105T235721Z
LAST-MODIFIED:20240606T154833Z
UID:10001956-1794765600-1794769200@onecity.church
SUMMARY:Small Groups
DESCRIPTION:Have you joined a Small Group yet! \nWe have many small groups meeting all around the golden triangle and would love for you jump in and join us. \nTo find a group near you go to www.onecity.church/smallgroups
URL:https://onecity.church/event/small-groups-2/2026-11-15/
LOCATION:One City Church\, 2350 Eastex Freeway\, Beaumont\, TX\, 77703\, United States
CATEGORIES:Church Wide
END:VEVENT
BEGIN:VEVENT
DTSTART;TZID=America/Chicago:20261118T183000
DTEND;TZID=America/Chicago:20261118T193000
DTSTAMP:20260424T190900
CREATED:20240105T235620Z
LAST-MODIFIED:20240606T155212Z
UID:10001696-1795026600-1795030200@onecity.church
SUMMARY:Small Groups
DESCRIPTION:Have you joined a Small Group yet! \nWe have many small groups meeting all around the golden triangle and would love for you jump in and join us. \nTo find a group near you go to www.onecity.church/smallgroups
URL:https://onecity.church/event/small-groups/2026-11-18/
LOCATION:One City Church\, 2350 Eastex Freeway\, Beaumont\, TX\, 77703\, United States
CATEGORIES:Church Wide
END:VEVENT
END:VCALENDAR