BEGIN:VCALENDAR
VERSION:2.0
PRODID:-//One City Church - ECPv6.15.19//NONSGML v1.0//EN
CALSCALE:GREGORIAN
METHOD:PUBLISH
X-WR-CALNAME:One City Church
X-ORIGINAL-URL:https://onecity.church
X-WR-CALDESC:Events for One City Church
REFRESH-INTERVAL;VALUE=DURATION:PT1H
X-Robots-Tag:noindex
X-PUBLISHED-TTL:PT1H
BEGIN:VTIMEZONE
TZID:America/Chicago
BEGIN:DAYLIGHT
TZOFFSETFROM:-0600
TZOFFSETTO:-0500
TZNAME:CDT
DTSTART:20250309T080000
END:DAYLIGHT
BEGIN:STANDARD
TZOFFSETFROM:-0500
TZOFFSETTO:-0600
TZNAME:CST
DTSTART:20251102T070000
END:STANDARD
BEGIN:DAYLIGHT
TZOFFSETFROM:-0600
TZOFFSETTO:-0500
TZNAME:CDT
DTSTART:20260308T080000
END:DAYLIGHT
BEGIN:STANDARD
TZOFFSETFROM:-0500
TZOFFSETTO:-0600
TZNAME:CST
DTSTART:20261101T070000
END:STANDARD
BEGIN:DAYLIGHT
TZOFFSETFROM:-0600
TZOFFSETTO:-0500
TZNAME:CDT
DTSTART:20270314T080000
END:DAYLIGHT
BEGIN:STANDARD
TZOFFSETFROM:-0500
TZOFFSETTO:-0600
TZNAME:CST
DTSTART:20271107T070000
END:STANDARD
END:VTIMEZONE
BEGIN:VEVENT
DTSTART;TZID=America/Chicago:20260503T180000
DTEND;TZID=America/Chicago:20260503T190000
DTSTAMP:20260424T225039
CREATED:20240105T235721Z
LAST-MODIFIED:20240606T154833Z
UID:10001928-1777831200-1777834800@onecity.church
SUMMARY:Small Groups
DESCRIPTION:Have you joined a Small Group yet! \nWe have many small groups meeting all around the golden triangle and would love for you jump in and join us. \nTo find a group near you go to www.onecity.church/smallgroups
URL:https://onecity.church/event/small-groups-2/2026-05-03/
LOCATION:One City Church\, 2350 Eastex Freeway\, Beaumont\, TX\, 77703\, United States
CATEGORIES:Church Wide
END:VEVENT
BEGIN:VEVENT
DTSTART;TZID=America/Chicago:20260506T183000
DTEND;TZID=America/Chicago:20260506T193000
DTSTAMP:20260424T225039
CREATED:20240105T235620Z
LAST-MODIFIED:20240606T155212Z
UID:10001668-1778092200-1778095800@onecity.church
SUMMARY:Small Groups
DESCRIPTION:Have you joined a Small Group yet! \nWe have many small groups meeting all around the golden triangle and would love for you jump in and join us. \nTo find a group near you go to www.onecity.church/smallgroups
URL:https://onecity.church/event/small-groups/2026-05-06/
LOCATION:One City Church\, 2350 Eastex Freeway\, Beaumont\, TX\, 77703\, United States
CATEGORIES:Church Wide
END:VEVENT
BEGIN:VEVENT
DTSTART;TZID=America/Chicago:20260506T183000
DTEND;TZID=America/Chicago:20260506T200000
DTSTAMP:20260424T225039
CREATED:20240607T034316Z
LAST-MODIFIED:20240607T034459Z
UID:10002617-1778092200-1778097600@onecity.church
SUMMARY:One City Youth Service
DESCRIPTION:One City Youth meets in building 4 at 6:30pm
URL:https://onecity.church/event/ocy-service/2026-05-06/
LOCATION:One City Church\, 2350 Eastex Freeway\, Beaumont\, TX\, 77703\, United States
CATEGORIES:Church Wide
END:VEVENT
BEGIN:VEVENT
DTSTART;TZID=America/Chicago:20260507T180000
DTEND;TZID=America/Chicago:20260507T200000
DTSTAMP:20260424T225039
CREATED:20240606T202843Z
LAST-MODIFIED:20240815T193438Z
UID:10002356-1778176800-1778184000@onecity.church
SUMMARY:One City Recovery
DESCRIPTION:What is One City Recovery?\n\n\n\nOne City Recovery is a Christ -centered recovery community that helps you find freedom from the issues that are controlling your life. \nThrough the biblically based 12 step program of Recovery Alive\, we are allowing the power and presence of Jesus to radically change our lives and restore hope. \nYou do not have to recover alone. We have a place for you to start over. \nOne City Recovery | You belong here. \nWe meet every Thursday starting at 6pm in the One City Church Event Center.
URL:https://onecity.church/event/one-city-recovery/2026-05-07/
LOCATION:One City Event Center
CATEGORIES:Church Wide,Recovery
ATTACH;FMTTYPE=image/png:https://onecity.church/wp-content/uploads/2024/06/5x7-front.png
END:VEVENT
BEGIN:VEVENT
DTSTART;TZID=America/Chicago:20260510T180000
DTEND;TZID=America/Chicago:20260510T190000
DTSTAMP:20260424T225039
CREATED:20240105T235721Z
LAST-MODIFIED:20240606T154833Z
UID:10001929-1778436000-1778439600@onecity.church
SUMMARY:Small Groups
DESCRIPTION:Have you joined a Small Group yet! \nWe have many small groups meeting all around the golden triangle and would love for you jump in and join us. \nTo find a group near you go to www.onecity.church/smallgroups
URL:https://onecity.church/event/small-groups-2/2026-05-10/
LOCATION:One City Church\, 2350 Eastex Freeway\, Beaumont\, TX\, 77703\, United States
CATEGORIES:Church Wide
END:VEVENT
BEGIN:VEVENT
DTSTART;TZID=America/Chicago:20260513T183000
DTEND;TZID=America/Chicago:20260513T193000
DTSTAMP:20260424T225039
CREATED:20240105T235620Z
LAST-MODIFIED:20240606T155212Z
UID:10001669-1778697000-1778700600@onecity.church
SUMMARY:Small Groups
DESCRIPTION:Have you joined a Small Group yet! \nWe have many small groups meeting all around the golden triangle and would love for you jump in and join us. \nTo find a group near you go to www.onecity.church/smallgroups
URL:https://onecity.church/event/small-groups/2026-05-13/
LOCATION:One City Church\, 2350 Eastex Freeway\, Beaumont\, TX\, 77703\, United States
CATEGORIES:Church Wide
END:VEVENT
BEGIN:VEVENT
DTSTART;TZID=America/Chicago:20260513T183000
DTEND;TZID=America/Chicago:20260513T200000
DTSTAMP:20260424T225039
CREATED:20240607T034316Z
LAST-MODIFIED:20240607T034459Z
UID:10002618-1778697000-1778702400@onecity.church
SUMMARY:One City Youth Service
DESCRIPTION:One City Youth meets in building 4 at 6:30pm
URL:https://onecity.church/event/ocy-service/2026-05-13/
LOCATION:One City Church\, 2350 Eastex Freeway\, Beaumont\, TX\, 77703\, United States
CATEGORIES:Church Wide
END:VEVENT
BEGIN:VEVENT
DTSTART;TZID=America/Chicago:20260514T180000
DTEND;TZID=America/Chicago:20260514T200000
DTSTAMP:20260424T225039
CREATED:20240606T202843Z
LAST-MODIFIED:20240815T193438Z
UID:10002357-1778781600-1778788800@onecity.church
SUMMARY:One City Recovery
DESCRIPTION:What is One City Recovery?\n\n\n\nOne City Recovery is a Christ -centered recovery community that helps you find freedom from the issues that are controlling your life. \nThrough the biblically based 12 step program of Recovery Alive\, we are allowing the power and presence of Jesus to radically change our lives and restore hope. \nYou do not have to recover alone. We have a place for you to start over. \nOne City Recovery | You belong here. \nWe meet every Thursday starting at 6pm in the One City Church Event Center.
URL:https://onecity.church/event/one-city-recovery/2026-05-14/
LOCATION:One City Event Center
CATEGORIES:Church Wide,Recovery
ATTACH;FMTTYPE=image/png:https://onecity.church/wp-content/uploads/2024/06/5x7-front.png
END:VEVENT
BEGIN:VEVENT
DTSTART;TZID=America/Chicago:20260517T180000
DTEND;TZID=America/Chicago:20260517T190000
DTSTAMP:20260424T225039
CREATED:20240105T235721Z
LAST-MODIFIED:20240606T154833Z
UID:10001930-1779040800-1779044400@onecity.church
SUMMARY:Small Groups
DESCRIPTION:Have you joined a Small Group yet! \nWe have many small groups meeting all around the golden triangle and would love for you jump in and join us. \nTo find a group near you go to www.onecity.church/smallgroups
URL:https://onecity.church/event/small-groups-2/2026-05-17/
LOCATION:One City Church\, 2350 Eastex Freeway\, Beaumont\, TX\, 77703\, United States
CATEGORIES:Church Wide
END:VEVENT
BEGIN:VEVENT
DTSTART;TZID=America/Chicago:20260520T183000
DTEND;TZID=America/Chicago:20260520T193000
DTSTAMP:20260424T225039
CREATED:20240105T235620Z
LAST-MODIFIED:20240606T155212Z
UID:10001670-1779301800-1779305400@onecity.church
SUMMARY:Small Groups
DESCRIPTION:Have you joined a Small Group yet! \nWe have many small groups meeting all around the golden triangle and would love for you jump in and join us. \nTo find a group near you go to www.onecity.church/smallgroups
URL:https://onecity.church/event/small-groups/2026-05-20/
LOCATION:One City Church\, 2350 Eastex Freeway\, Beaumont\, TX\, 77703\, United States
CATEGORIES:Church Wide
END:VEVENT
BEGIN:VEVENT
DTSTART;TZID=America/Chicago:20260520T183000
DTEND;TZID=America/Chicago:20260520T200000
DTSTAMP:20260424T225039
CREATED:20240607T034316Z
LAST-MODIFIED:20240607T034459Z
UID:10002619-1779301800-1779307200@onecity.church
SUMMARY:One City Youth Service
DESCRIPTION:One City Youth meets in building 4 at 6:30pm
URL:https://onecity.church/event/ocy-service/2026-05-20/
LOCATION:One City Church\, 2350 Eastex Freeway\, Beaumont\, TX\, 77703\, United States
CATEGORIES:Church Wide
END:VEVENT
BEGIN:VEVENT
DTSTART;TZID=America/Chicago:20260521T180000
DTEND;TZID=America/Chicago:20260521T200000
DTSTAMP:20260424T225039
CREATED:20240606T202843Z
LAST-MODIFIED:20240815T193438Z
UID:10002358-1779386400-1779393600@onecity.church
SUMMARY:One City Recovery
DESCRIPTION:What is One City Recovery?\n\n\n\nOne City Recovery is a Christ -centered recovery community that helps you find freedom from the issues that are controlling your life. \nThrough the biblically based 12 step program of Recovery Alive\, we are allowing the power and presence of Jesus to radically change our lives and restore hope. \nYou do not have to recover alone. We have a place for you to start over. \nOne City Recovery | You belong here. \nWe meet every Thursday starting at 6pm in the One City Church Event Center.
URL:https://onecity.church/event/one-city-recovery/2026-05-21/
LOCATION:One City Event Center
CATEGORIES:Church Wide,Recovery
ATTACH;FMTTYPE=image/png:https://onecity.church/wp-content/uploads/2024/06/5x7-front.png
END:VEVENT
BEGIN:VEVENT
DTSTART;TZID=America/Chicago:20260524T180000
DTEND;TZID=America/Chicago:20260524T190000
DTSTAMP:20260424T225039
CREATED:20240105T235721Z
LAST-MODIFIED:20240606T154833Z
UID:10001931-1779645600-1779649200@onecity.church
SUMMARY:Small Groups
DESCRIPTION:Have you joined a Small Group yet! \nWe have many small groups meeting all around the golden triangle and would love for you jump in and join us. \nTo find a group near you go to www.onecity.church/smallgroups
URL:https://onecity.church/event/small-groups-2/2026-05-24/
LOCATION:One City Church\, 2350 Eastex Freeway\, Beaumont\, TX\, 77703\, United States
CATEGORIES:Church Wide
END:VEVENT
BEGIN:VEVENT
DTSTART;TZID=America/Chicago:20260527T183000
DTEND;TZID=America/Chicago:20260527T193000
DTSTAMP:20260424T225040
CREATED:20240105T235620Z
LAST-MODIFIED:20240606T155212Z
UID:10001671-1779906600-1779910200@onecity.church
SUMMARY:Small Groups
DESCRIPTION:Have you joined a Small Group yet! \nWe have many small groups meeting all around the golden triangle and would love for you jump in and join us. \nTo find a group near you go to www.onecity.church/smallgroups
URL:https://onecity.church/event/small-groups/2026-05-27/
LOCATION:One City Church\, 2350 Eastex Freeway\, Beaumont\, TX\, 77703\, United States
CATEGORIES:Church Wide
END:VEVENT
BEGIN:VEVENT
DTSTART;TZID=America/Chicago:20260527T183000
DTEND;TZID=America/Chicago:20260527T200000
DTSTAMP:20260424T225040
CREATED:20240607T034316Z
LAST-MODIFIED:20240607T034459Z
UID:10002620-1779906600-1779912000@onecity.church
SUMMARY:One City Youth Service
DESCRIPTION:One City Youth meets in building 4 at 6:30pm
URL:https://onecity.church/event/ocy-service/2026-05-27/
LOCATION:One City Church\, 2350 Eastex Freeway\, Beaumont\, TX\, 77703\, United States
CATEGORIES:Church Wide
END:VEVENT
BEGIN:VEVENT
DTSTART;TZID=America/Chicago:20260528T180000
DTEND;TZID=America/Chicago:20260528T200000
DTSTAMP:20260424T225040
CREATED:20240606T202843Z
LAST-MODIFIED:20240815T193438Z
UID:10002359-1779991200-1779998400@onecity.church
SUMMARY:One City Recovery
DESCRIPTION:What is One City Recovery?\n\n\n\nOne City Recovery is a Christ -centered recovery community that helps you find freedom from the issues that are controlling your life. \nThrough the biblically based 12 step program of Recovery Alive\, we are allowing the power and presence of Jesus to radically change our lives and restore hope. \nYou do not have to recover alone. We have a place for you to start over. \nOne City Recovery | You belong here. \nWe meet every Thursday starting at 6pm in the One City Church Event Center.
URL:https://onecity.church/event/one-city-recovery/2026-05-28/
LOCATION:One City Event Center
CATEGORIES:Church Wide,Recovery
ATTACH;FMTTYPE=image/png:https://onecity.church/wp-content/uploads/2024/06/5x7-front.png
END:VEVENT
BEGIN:VEVENT
DTSTART;TZID=America/Chicago:20260531T180000
DTEND;TZID=America/Chicago:20260531T190000
DTSTAMP:20260424T225040
CREATED:20240105T235721Z
LAST-MODIFIED:20240606T154833Z
UID:10001932-1780250400-1780254000@onecity.church
SUMMARY:Small Groups
DESCRIPTION:Have you joined a Small Group yet! \nWe have many small groups meeting all around the golden triangle and would love for you jump in and join us. \nTo find a group near you go to www.onecity.church/smallgroups
URL:https://onecity.church/event/small-groups-2/2026-05-31/
LOCATION:One City Church\, 2350 Eastex Freeway\, Beaumont\, TX\, 77703\, United States
CATEGORIES:Church Wide
END:VEVENT
END:VCALENDAR