BEGIN:VCALENDAR
VERSION:2.0
PRODID:-//One City Church - ECPv6.15.19//NONSGML v1.0//EN
CALSCALE:GREGORIAN
METHOD:PUBLISH
X-WR-CALNAME:One City Church
X-ORIGINAL-URL:https://onecity.church
X-WR-CALDESC:Events for One City Church
REFRESH-INTERVAL;VALUE=DURATION:PT1H
X-Robots-Tag:noindex
X-PUBLISHED-TTL:PT1H
BEGIN:VTIMEZONE
TZID:America/Chicago
BEGIN:DAYLIGHT
TZOFFSETFROM:-0600
TZOFFSETTO:-0500
TZNAME:CDT
DTSTART:20220313T080000
END:DAYLIGHT
BEGIN:STANDARD
TZOFFSETFROM:-0500
TZOFFSETTO:-0600
TZNAME:CST
DTSTART:20221106T070000
END:STANDARD
BEGIN:DAYLIGHT
TZOFFSETFROM:-0600
TZOFFSETTO:-0500
TZNAME:CDT
DTSTART:20230312T080000
END:DAYLIGHT
BEGIN:STANDARD
TZOFFSETFROM:-0500
TZOFFSETTO:-0600
TZNAME:CST
DTSTART:20231105T070000
END:STANDARD
BEGIN:DAYLIGHT
TZOFFSETFROM:-0600
TZOFFSETTO:-0500
TZNAME:CDT
DTSTART:20240310T080000
END:DAYLIGHT
BEGIN:STANDARD
TZOFFSETFROM:-0500
TZOFFSETTO:-0600
TZNAME:CST
DTSTART:20241103T070000
END:STANDARD
END:VTIMEZONE
BEGIN:VEVENT
DTSTART;TZID=America/Chicago:20230324T083000
DTEND;TZID=America/Chicago:20230324T200000
DTSTAMP:20260424T223009
CREATED:20230111T182729Z
LAST-MODIFIED:20230111T182730Z
UID:10001471-1679646600-1679688000@onecity.church
SUMMARY:Pink Impact 2023
DESCRIPTION:We’re excited to announce that Pink Impact 2023 March 23rd and 24th at One City Church\, and you won’t want to miss it. powerful\, fun\, and interactive\, with vendors\, food trucks\, and plenty of opportunities to connect with friends. But you’ll want to act fast if you want to get the early bird price of just $35. \nThe price goes up to $45 starting on February 19th\, so make sure to register today at onecity.church/pink2023. Don’t miss out on this amazing opportunity to grow in your faith and connect with other women. We hope to see you at Pink Impact 2023! We are thrilled to announce the lineup for Pink Impact 2023\, our annual women’s conference at One City Church. This year\, we have an incredible group of speakers joining us\, including Joyce Myers\, Bridget Morris\, Chrystal Evans Hurst\, Lisa Harper\, Nancy Houston\, and Kari Jobe. Don’t miss out on this amazing opportunity to be inspired and encouraged by these incredible speakers.
URL:https://onecity.church/event/pink-impact-2023/2023-03-24/
LOCATION:One City Event Center
CATEGORIES:Church Wide,Womens Events
ORGANIZER;CN="One City Church":MAILTO:info@onecity.church
END:VEVENT
BEGIN:VEVENT
DTSTART;TZID=America/Chicago:20230323T183000
DTEND;TZID=America/Chicago:20230323T200000
DTSTAMP:20260424T223009
CREATED:20210618T172010Z
LAST-MODIFIED:20210618T172010Z
UID:10001222-1679596200-1679601600@onecity.church
SUMMARY:Celebrate Recovery
DESCRIPTION:
URL:https://onecity.church/event/celebrate-recovery/2023-03-23/
LOCATION:Event Center Main Auditorium\, 2350 Eastex Freeway\, Beaumont\, TX\, 77703\, United States
ORGANIZER;CN="One City Church":MAILTO:info@onecity.church
END:VEVENT
BEGIN:VEVENT
DTSTART;TZID=America/Chicago:20230323T180000
DTEND;TZID=America/Chicago:20230323T213000
DTSTAMP:20260424T223009
CREATED:20230111T182729Z
LAST-MODIFIED:20230111T182730Z
UID:10001470-1679594400-1679607000@onecity.church
SUMMARY:Pink Impact 2023
DESCRIPTION:We’re excited to announce that Pink Impact 2023 March 23rd and 24th at One City Church\, and you won’t want to miss it. powerful\, fun\, and interactive\, with vendors\, food trucks\, and plenty of opportunities to connect with friends. But you’ll want to act fast if you want to get the early bird price of just $35. \nThe price goes up to $45 starting on February 19th\, so make sure to register today at onecity.church/pink2023. Don’t miss out on this amazing opportunity to grow in your faith and connect with other women. We hope to see you at Pink Impact 2023! We are thrilled to announce the lineup for Pink Impact 2023\, our annual women’s conference at One City Church. This year\, we have an incredible group of speakers joining us\, including Joyce Myers\, Bridget Morris\, Chrystal Evans Hurst\, Lisa Harper\, Nancy Houston\, and Kari Jobe. Don’t miss out on this amazing opportunity to be inspired and encouraged by these incredible speakers.
URL:https://onecity.church/event/pink-impact-2023/2023-03-23/
LOCATION:One City Event Center
CATEGORIES:Church Wide,Womens Events
ORGANIZER;CN="One City Church":MAILTO:info@onecity.church
END:VEVENT
BEGIN:VEVENT
DTSTART;TZID=America/Chicago:20230323T100000
DTEND;TZID=America/Chicago:20230323T120000
DTSTAMP:20260424T223009
CREATED:20220719T152804Z
LAST-MODIFIED:20220719T152804Z
UID:10001333-1679565600-1679572800@onecity.church
SUMMARY:Joy Community Bible Study
DESCRIPTION:Joy Community is designed encourage our walk with Jesus and our growth as Women of God by connecting with scripture and building community with our Sisters in Christ. Childcare is available for children 0 – 5 years\, so don’t miss this opportunity – Registration is available at onecity.church/joy or contact Sara Vacek for more information.
URL:https://onecity.church/event/joy-community-bible-study-2/2023-03-23/
LOCATION:One City Event Center
CATEGORIES:Womens Events
ORGANIZER;CN="One City Church":MAILTO:info@onecity.church
END:VEVENT
BEGIN:VEVENT
DTSTART;TZID=America/Chicago:20230322T183000
DTEND;TZID=America/Chicago:20230322T200000
DTSTAMP:20260424T223009
CREATED:20230111T183141Z
LAST-MODIFIED:20230111T183222Z
UID:10001482-1679509800-1679515200@onecity.church
SUMMARY:Women's Small Group
DESCRIPTION:Please register for this Small Group at www.onecity.church/smallgroup.
URL:https://onecity.church/event/womens-small-group/2023-03-22/
LOCATION:Women’s Small Group\, 3080 Arbor Ln\, Beaumont\, TX\, 77706
CATEGORIES:Womens Events
ORGANIZER;CN="One City Church":MAILTO:info@onecity.church
END:VEVENT
BEGIN:VEVENT
DTSTART;TZID=America/Chicago:20230316T183000
DTEND;TZID=America/Chicago:20230316T200000
DTSTAMP:20260424T223009
CREATED:20210618T172010Z
LAST-MODIFIED:20210618T172010Z
UID:10001221-1678991400-1678996800@onecity.church
SUMMARY:Celebrate Recovery
DESCRIPTION:
URL:https://onecity.church/event/celebrate-recovery/2023-03-16/
LOCATION:Event Center Main Auditorium\, 2350 Eastex Freeway\, Beaumont\, TX\, 77703\, United States
ORGANIZER;CN="One City Church":MAILTO:info@onecity.church
END:VEVENT
BEGIN:VEVENT
DTSTART;TZID=America/Chicago:20230316T100000
DTEND;TZID=America/Chicago:20230316T120000
DTSTAMP:20260424T223009
CREATED:20220719T152804Z
LAST-MODIFIED:20220719T152804Z
UID:10001332-1678960800-1678968000@onecity.church
SUMMARY:Joy Community Bible Study
DESCRIPTION:Joy Community is designed encourage our walk with Jesus and our growth as Women of God by connecting with scripture and building community with our Sisters in Christ. Childcare is available for children 0 – 5 years\, so don’t miss this opportunity – Registration is available at onecity.church/joy or contact Sara Vacek for more information.
URL:https://onecity.church/event/joy-community-bible-study-2/2023-03-16/
LOCATION:One City Event Center
CATEGORIES:Womens Events
ORGANIZER;CN="One City Church":MAILTO:info@onecity.church
END:VEVENT
BEGIN:VEVENT
DTSTART;TZID=America/Chicago:20230315T183000
DTEND;TZID=America/Chicago:20230315T200000
DTSTAMP:20260424T223009
CREATED:20230111T183141Z
LAST-MODIFIED:20230111T183222Z
UID:10001481-1678905000-1678910400@onecity.church
SUMMARY:Women's Small Group
DESCRIPTION:Please register for this Small Group at www.onecity.church/smallgroup.
URL:https://onecity.church/event/womens-small-group/2023-03-15/
LOCATION:Women’s Small Group\, 3080 Arbor Ln\, Beaumont\, TX\, 77706
CATEGORIES:Womens Events
ORGANIZER;CN="One City Church":MAILTO:info@onecity.church
END:VEVENT
BEGIN:VEVENT
DTSTART;TZID=America/Chicago:20230309T183000
DTEND;TZID=America/Chicago:20230309T200000
DTSTAMP:20260424T223009
CREATED:20210618T172010Z
LAST-MODIFIED:20210618T172010Z
UID:10001220-1678386600-1678392000@onecity.church
SUMMARY:Celebrate Recovery
DESCRIPTION:
URL:https://onecity.church/event/celebrate-recovery/2023-03-09/
LOCATION:Event Center Main Auditorium\, 2350 Eastex Freeway\, Beaumont\, TX\, 77703\, United States
ORGANIZER;CN="One City Church":MAILTO:info@onecity.church
END:VEVENT
BEGIN:VEVENT
DTSTART;TZID=America/Chicago:20230309T100000
DTEND;TZID=America/Chicago:20230309T120000
DTSTAMP:20260424T223009
CREATED:20220719T152804Z
LAST-MODIFIED:20220719T152804Z
UID:10001331-1678356000-1678363200@onecity.church
SUMMARY:Joy Community Bible Study
DESCRIPTION:Joy Community is designed encourage our walk with Jesus and our growth as Women of God by connecting with scripture and building community with our Sisters in Christ. Childcare is available for children 0 – 5 years\, so don’t miss this opportunity – Registration is available at onecity.church/joy or contact Sara Vacek for more information.
URL:https://onecity.church/event/joy-community-bible-study-2/2023-03-09/
LOCATION:One City Event Center
CATEGORIES:Womens Events
ORGANIZER;CN="One City Church":MAILTO:info@onecity.church
END:VEVENT
BEGIN:VEVENT
DTSTART;TZID=America/Chicago:20230308T183000
DTEND;TZID=America/Chicago:20230308T200000
DTSTAMP:20260424T223009
CREATED:20230111T183141Z
LAST-MODIFIED:20230111T183222Z
UID:10001480-1678300200-1678305600@onecity.church
SUMMARY:Women's Small Group
DESCRIPTION:Please register for this Small Group at www.onecity.church/smallgroup.
URL:https://onecity.church/event/womens-small-group/2023-03-08/
LOCATION:Women’s Small Group\, 3080 Arbor Ln\, Beaumont\, TX\, 77706
CATEGORIES:Womens Events
ORGANIZER;CN="One City Church":MAILTO:info@onecity.church
END:VEVENT
BEGIN:VEVENT
DTSTART;TZID=America/Chicago:20230302T183000
DTEND;TZID=America/Chicago:20230302T200000
DTSTAMP:20260424T223009
CREATED:20210618T172010Z
LAST-MODIFIED:20210618T172010Z
UID:10001219-1677781800-1677787200@onecity.church
SUMMARY:Celebrate Recovery
DESCRIPTION:
URL:https://onecity.church/event/celebrate-recovery/2023-03-02/
LOCATION:Event Center Main Auditorium\, 2350 Eastex Freeway\, Beaumont\, TX\, 77703\, United States
ORGANIZER;CN="One City Church":MAILTO:info@onecity.church
END:VEVENT
BEGIN:VEVENT
DTSTART;TZID=America/Chicago:20230302T100000
DTEND;TZID=America/Chicago:20230302T120000
DTSTAMP:20260424T223009
CREATED:20220719T152804Z
LAST-MODIFIED:20220719T152804Z
UID:10001330-1677751200-1677758400@onecity.church
SUMMARY:Joy Community Bible Study
DESCRIPTION:Joy Community is designed encourage our walk with Jesus and our growth as Women of God by connecting with scripture and building community with our Sisters in Christ. Childcare is available for children 0 – 5 years\, so don’t miss this opportunity – Registration is available at onecity.church/joy or contact Sara Vacek for more information.
URL:https://onecity.church/event/joy-community-bible-study-2/2023-03-02/
LOCATION:One City Event Center
CATEGORIES:Womens Events
ORGANIZER;CN="One City Church":MAILTO:info@onecity.church
END:VEVENT
BEGIN:VEVENT
DTSTART;TZID=America/Chicago:20230301T183000
DTEND;TZID=America/Chicago:20230301T200000
DTSTAMP:20260424T223009
CREATED:20230111T183141Z
LAST-MODIFIED:20230111T183222Z
UID:10001479-1677695400-1677700800@onecity.church
SUMMARY:Women's Small Group
DESCRIPTION:Please register for this Small Group at www.onecity.church/smallgroup.
URL:https://onecity.church/event/womens-small-group/2023-03-01/
LOCATION:Women’s Small Group\, 3080 Arbor Ln\, Beaumont\, TX\, 77706
CATEGORIES:Womens Events
ORGANIZER;CN="One City Church":MAILTO:info@onecity.church
END:VEVENT
BEGIN:VEVENT
DTSTART;TZID=America/Chicago:20230223T183000
DTEND;TZID=America/Chicago:20230223T200000
DTSTAMP:20260424T223009
CREATED:20210618T172010Z
LAST-MODIFIED:20210618T172010Z
UID:10001218-1677177000-1677182400@onecity.church
SUMMARY:Celebrate Recovery
DESCRIPTION:
URL:https://onecity.church/event/celebrate-recovery/2023-02-23/
LOCATION:Event Center Main Auditorium\, 2350 Eastex Freeway\, Beaumont\, TX\, 77703\, United States
ORGANIZER;CN="One City Church":MAILTO:info@onecity.church
END:VEVENT
BEGIN:VEVENT
DTSTART;TZID=America/Chicago:20230223T100000
DTEND;TZID=America/Chicago:20230223T120000
DTSTAMP:20260424T223009
CREATED:20220719T152804Z
LAST-MODIFIED:20220719T152804Z
UID:10001329-1677146400-1677153600@onecity.church
SUMMARY:Joy Community Bible Study
DESCRIPTION:Joy Community is designed encourage our walk with Jesus and our growth as Women of God by connecting with scripture and building community with our Sisters in Christ. Childcare is available for children 0 – 5 years\, so don’t miss this opportunity – Registration is available at onecity.church/joy or contact Sara Vacek for more information.
URL:https://onecity.church/event/joy-community-bible-study-2/2023-02-23/
LOCATION:One City Event Center
CATEGORIES:Womens Events
ORGANIZER;CN="One City Church":MAILTO:info@onecity.church
END:VEVENT
BEGIN:VEVENT
DTSTART;TZID=America/Chicago:20230222T183000
DTEND;TZID=America/Chicago:20230222T200000
DTSTAMP:20260424T223009
CREATED:20230111T183141Z
LAST-MODIFIED:20230111T183222Z
UID:10001478-1677090600-1677096000@onecity.church
SUMMARY:Women's Small Group
DESCRIPTION:Please register for this Small Group at www.onecity.church/smallgroup.
URL:https://onecity.church/event/womens-small-group/2023-02-22/
LOCATION:Women’s Small Group\, 3080 Arbor Ln\, Beaumont\, TX\, 77706
CATEGORIES:Womens Events
ORGANIZER;CN="One City Church":MAILTO:info@onecity.church
END:VEVENT
BEGIN:VEVENT
DTSTART;TZID=America/Chicago:20230216T183000
DTEND;TZID=America/Chicago:20230216T200000
DTSTAMP:20260424T223009
CREATED:20210618T172010Z
LAST-MODIFIED:20210618T172010Z
UID:10001217-1676572200-1676577600@onecity.church
SUMMARY:Celebrate Recovery
DESCRIPTION:
URL:https://onecity.church/event/celebrate-recovery/2023-02-16/
LOCATION:Event Center Main Auditorium\, 2350 Eastex Freeway\, Beaumont\, TX\, 77703\, United States
ORGANIZER;CN="One City Church":MAILTO:info@onecity.church
END:VEVENT
BEGIN:VEVENT
DTSTART;TZID=America/Chicago:20230216T100000
DTEND;TZID=America/Chicago:20230216T120000
DTSTAMP:20260424T223009
CREATED:20220719T152804Z
LAST-MODIFIED:20220719T152804Z
UID:10001328-1676541600-1676548800@onecity.church
SUMMARY:Joy Community Bible Study
DESCRIPTION:Joy Community is designed encourage our walk with Jesus and our growth as Women of God by connecting with scripture and building community with our Sisters in Christ. Childcare is available for children 0 – 5 years\, so don’t miss this opportunity – Registration is available at onecity.church/joy or contact Sara Vacek for more information.
URL:https://onecity.church/event/joy-community-bible-study-2/2023-02-16/
LOCATION:One City Event Center
CATEGORIES:Womens Events
ORGANIZER;CN="One City Church":MAILTO:info@onecity.church
END:VEVENT
BEGIN:VEVENT
DTSTART;TZID=America/Chicago:20230215T183000
DTEND;TZID=America/Chicago:20230215T200000
DTSTAMP:20260424T223009
CREATED:20230111T183141Z
LAST-MODIFIED:20230111T183222Z
UID:10001477-1676485800-1676491200@onecity.church
SUMMARY:Women's Small Group
DESCRIPTION:Please register for this Small Group at www.onecity.church/smallgroup.
URL:https://onecity.church/event/womens-small-group/2023-02-15/
LOCATION:Women’s Small Group\, 3080 Arbor Ln\, Beaumont\, TX\, 77706
CATEGORIES:Womens Events
ORGANIZER;CN="One City Church":MAILTO:info@onecity.church
END:VEVENT
BEGIN:VEVENT
DTSTART;TZID=America/Chicago:20230209T183000
DTEND;TZID=America/Chicago:20230209T200000
DTSTAMP:20260424T223009
CREATED:20210618T172010Z
LAST-MODIFIED:20210618T172010Z
UID:10001216-1675967400-1675972800@onecity.church
SUMMARY:Celebrate Recovery
DESCRIPTION:
URL:https://onecity.church/event/celebrate-recovery/2023-02-09/
LOCATION:Event Center Main Auditorium\, 2350 Eastex Freeway\, Beaumont\, TX\, 77703\, United States
ORGANIZER;CN="One City Church":MAILTO:info@onecity.church
END:VEVENT
BEGIN:VEVENT
DTSTART;TZID=America/Chicago:20230209T100000
DTEND;TZID=America/Chicago:20230209T120000
DTSTAMP:20260424T223009
CREATED:20220719T152804Z
LAST-MODIFIED:20220719T152804Z
UID:10001327-1675936800-1675944000@onecity.church
SUMMARY:Joy Community Bible Study
DESCRIPTION:Joy Community is designed encourage our walk with Jesus and our growth as Women of God by connecting with scripture and building community with our Sisters in Christ. Childcare is available for children 0 – 5 years\, so don’t miss this opportunity – Registration is available at onecity.church/joy or contact Sara Vacek for more information.
URL:https://onecity.church/event/joy-community-bible-study-2/2023-02-09/
LOCATION:One City Event Center
CATEGORIES:Womens Events
ORGANIZER;CN="One City Church":MAILTO:info@onecity.church
END:VEVENT
BEGIN:VEVENT
DTSTART;TZID=America/Chicago:20230208T183000
DTEND;TZID=America/Chicago:20230208T200000
DTSTAMP:20260424T223009
CREATED:20230111T183141Z
LAST-MODIFIED:20230111T183222Z
UID:10001476-1675881000-1675886400@onecity.church
SUMMARY:Women's Small Group
DESCRIPTION:Please register for this Small Group at www.onecity.church/smallgroup.
URL:https://onecity.church/event/womens-small-group/2023-02-08/
LOCATION:Women’s Small Group\, 3080 Arbor Ln\, Beaumont\, TX\, 77706
CATEGORIES:Womens Events
ORGANIZER;CN="One City Church":MAILTO:info@onecity.church
END:VEVENT
BEGIN:VEVENT
DTSTART;TZID=America/Chicago:20230202T183000
DTEND;TZID=America/Chicago:20230202T200000
DTSTAMP:20260424T223009
CREATED:20210618T172010Z
LAST-MODIFIED:20210618T172010Z
UID:10001215-1675362600-1675368000@onecity.church
SUMMARY:Celebrate Recovery
DESCRIPTION:
URL:https://onecity.church/event/celebrate-recovery/2023-02-02/
LOCATION:Event Center Main Auditorium\, 2350 Eastex Freeway\, Beaumont\, TX\, 77703\, United States
ORGANIZER;CN="One City Church":MAILTO:info@onecity.church
END:VEVENT
BEGIN:VEVENT
DTSTART;TZID=America/Chicago:20230202T100000
DTEND;TZID=America/Chicago:20230202T120000
DTSTAMP:20260424T223009
CREATED:20220719T152804Z
LAST-MODIFIED:20220719T152804Z
UID:10001326-1675332000-1675339200@onecity.church
SUMMARY:Joy Community Bible Study
DESCRIPTION:Joy Community is designed encourage our walk with Jesus and our growth as Women of God by connecting with scripture and building community with our Sisters in Christ. Childcare is available for children 0 – 5 years\, so don’t miss this opportunity – Registration is available at onecity.church/joy or contact Sara Vacek for more information.
URL:https://onecity.church/event/joy-community-bible-study-2/2023-02-02/
LOCATION:One City Event Center
CATEGORIES:Womens Events
ORGANIZER;CN="One City Church":MAILTO:info@onecity.church
END:VEVENT
BEGIN:VEVENT
DTSTART;TZID=America/Chicago:20230201T183000
DTEND;TZID=America/Chicago:20230201T200000
DTSTAMP:20260424T223010
CREATED:20230111T183141Z
LAST-MODIFIED:20230111T183222Z
UID:10001475-1675276200-1675281600@onecity.church
SUMMARY:Women's Small Group
DESCRIPTION:Please register for this Small Group at www.onecity.church/smallgroup.
URL:https://onecity.church/event/womens-small-group/2023-02-01/
LOCATION:Women’s Small Group\, 3080 Arbor Ln\, Beaumont\, TX\, 77706
CATEGORIES:Womens Events
ORGANIZER;CN="One City Church":MAILTO:info@onecity.church
END:VEVENT
BEGIN:VEVENT
DTSTART;TZID=America/Chicago:20230129T113000
DTEND;TZID=America/Chicago:20230129T143000
DTSTAMP:20260424T223010
CREATED:20230109T180642Z
LAST-MODIFIED:20230109T183233Z
UID:10001469-1674991800-1675002600@onecity.church
SUMMARY:One City Cares Blood Drive
DESCRIPTION:Are you looking for a way to make a positive impact here in SETX? Consider donating blood at our upcoming LifeShare blood drive Sunday\, January 29th immediately following service thru 2:30 pm in the One City Event Center.\n//\nYour donation has the potential to save lives\, and every unit of blood collected can help up to three people in need. To make an appointment to donate\, go to onecity.church/drive. Appointments are encouraged\, but walk-ins are also welcome. We hope to see you there!
URL:https://onecity.church/event/one-city-cares-blood-drive/
LOCATION:One City Event Center
CATEGORIES:Church Wide,One City Cares
ATTACH;FMTTYPE=image/png:https://onecity.church/wp-content/uploads/2023/01/Blue-Red-Modern-Illustration-Campaign-Poster.png
ORGANIZER;CN="One City Church":MAILTO:info@onecity.church
END:VEVENT
BEGIN:VEVENT
DTSTART;TZID=America/Chicago:20230126T183000
DTEND;TZID=America/Chicago:20230126T200000
DTSTAMP:20260424T223010
CREATED:20210618T172010Z
LAST-MODIFIED:20210618T172010Z
UID:10001214-1674757800-1674763200@onecity.church
SUMMARY:Celebrate Recovery
DESCRIPTION:
URL:https://onecity.church/event/celebrate-recovery/2023-01-26/
LOCATION:Event Center Main Auditorium\, 2350 Eastex Freeway\, Beaumont\, TX\, 77703\, United States
ORGANIZER;CN="One City Church":MAILTO:info@onecity.church
END:VEVENT
BEGIN:VEVENT
DTSTART;TZID=America/Chicago:20230126T100000
DTEND;TZID=America/Chicago:20230126T120000
DTSTAMP:20260424T223010
CREATED:20220719T152804Z
LAST-MODIFIED:20220719T152804Z
UID:10001325-1674727200-1674734400@onecity.church
SUMMARY:Joy Community Bible Study
DESCRIPTION:Joy Community is designed encourage our walk with Jesus and our growth as Women of God by connecting with scripture and building community with our Sisters in Christ. Childcare is available for children 0 – 5 years\, so don’t miss this opportunity – Registration is available at onecity.church/joy or contact Sara Vacek for more information.
URL:https://onecity.church/event/joy-community-bible-study-2/2023-01-26/
LOCATION:One City Event Center
CATEGORIES:Womens Events
ORGANIZER;CN="One City Church":MAILTO:info@onecity.church
END:VEVENT
BEGIN:VEVENT
DTSTART;TZID=America/Chicago:20230125T183000
DTEND;TZID=America/Chicago:20230125T200000
DTSTAMP:20260424T223010
CREATED:20230111T183141Z
LAST-MODIFIED:20230111T183222Z
UID:10001474-1674671400-1674676800@onecity.church
SUMMARY:Women's Small Group
DESCRIPTION:Please register for this Small Group at www.onecity.church/smallgroup.
URL:https://onecity.church/event/womens-small-group/2023-01-25/
LOCATION:Women’s Small Group\, 3080 Arbor Ln\, Beaumont\, TX\, 77706
CATEGORIES:Womens Events
ORGANIZER;CN="One City Church":MAILTO:info@onecity.church
END:VEVENT
END:VCALENDAR