BEGIN:VCALENDAR
VERSION:2.0
PRODID:-//One City Church - ECPv6.15.19//NONSGML v1.0//EN
CALSCALE:GREGORIAN
METHOD:PUBLISH
X-WR-CALNAME:One City Church
X-ORIGINAL-URL:https://onecity.church
X-WR-CALDESC:Events for One City Church
REFRESH-INTERVAL;VALUE=DURATION:PT1H
X-Robots-Tag:noindex
X-PUBLISHED-TTL:PT1H
BEGIN:VTIMEZONE
TZID:America/Chicago
BEGIN:DAYLIGHT
TZOFFSETFROM:-0600
TZOFFSETTO:-0500
TZNAME:CDT
DTSTART:20200308T080000
END:DAYLIGHT
BEGIN:STANDARD
TZOFFSETFROM:-0500
TZOFFSETTO:-0600
TZNAME:CST
DTSTART:20201101T070000
END:STANDARD
BEGIN:DAYLIGHT
TZOFFSETFROM:-0600
TZOFFSETTO:-0500
TZNAME:CDT
DTSTART:20210314T080000
END:DAYLIGHT
BEGIN:STANDARD
TZOFFSETFROM:-0500
TZOFFSETTO:-0600
TZNAME:CST
DTSTART:20211107T070000
END:STANDARD
BEGIN:DAYLIGHT
TZOFFSETFROM:-0600
TZOFFSETTO:-0500
TZNAME:CDT
DTSTART:20220313T080000
END:DAYLIGHT
BEGIN:STANDARD
TZOFFSETFROM:-0500
TZOFFSETTO:-0600
TZNAME:CST
DTSTART:20221106T070000
END:STANDARD
BEGIN:DAYLIGHT
TZOFFSETFROM:-0600
TZOFFSETTO:-0500
TZNAME:CDT
DTSTART:20230312T080000
END:DAYLIGHT
BEGIN:STANDARD
TZOFFSETFROM:-0500
TZOFFSETTO:-0600
TZNAME:CST
DTSTART:20231105T070000
END:STANDARD
END:VTIMEZONE
BEGIN:VEVENT
DTSTART;TZID=America/Chicago:20221109T183000
DTEND;TZID=America/Chicago:20221109T200000
DTSTAMP:20260424T220920
CREATED:20221018T010151Z
LAST-MODIFIED:20221018T010242Z
UID:10000833-1668018600-1668024000@onecity.church
SUMMARY:Operation Christmas Child packing party 2022
DESCRIPTION:It’s time for our annual Operation Christmas Child Packing party. We started collecting items this summer that will go in shoeboxes to be shipped to children all over the world this December. For many\, this is the only Christmas gift they will receive. \nWe will meet on Wed\, November 9 in the Kids Bldg from 6:30-8pm to pack the shoeboxes. Pizza will be provided. We are still in need of drawstring bags\, zip pencil pouches\, wash cloths\, bar soap\, toothbrushes and soap/toothbrush holders. All donations can be dropped off at the Welcome Center thru November 9. For more information about what Operation Christmas Child is\, please go onecity.church/occ or call Pastor Amy at the church office\, 409-892-8475.
URL:https://onecity.church/event/operation-christmas-child-packing-party-2022/
LOCATION:Building 2\, 2350 Eastex Freeway\, Beaumont\, TX\, 77706\, United States
CATEGORIES:Church Wide,Kids Events,One City Cares
ORGANIZER;CN="One City Church":MAILTO:info@onecity.church
END:VEVENT
BEGIN:VEVENT
DTSTART;TZID=America/Chicago:20210626T100000
DTEND;TZID=America/Chicago:20210626T120000
DTSTAMP:20260424T220920
CREATED:20210618T154433Z
LAST-MODIFIED:20210618T154433Z
UID:10000847-1624701600-1624708800@onecity.church
SUMMARY:Art Class for Kids
DESCRIPTION:Join us at One City Kids from 10am to 12pm in BUILDING 2 for an interactive and fun learning experience for kids ages 5-12. \nSpaces are limited. Cost is $10 per child. \n[button color=”undefined” hover_text_color_override=”undefined” url=”www.onecity.church/art” text=”Register Here” color_override=””]
URL:https://onecity.church/event/art-class-for-kids/
LOCATION:Building 2\, 2350 Eastex Freeway\, Beaumont\, TX\, 77706\, United States
CATEGORIES:Kids Events,Summer
ORGANIZER;CN="One City Church":MAILTO:info@onecity.church
END:VEVENT
END:VCALENDAR