BEGIN:VCALENDAR
VERSION:2.0
PRODID:-//One City Church - ECPv6.15.19//NONSGML v1.0//EN
CALSCALE:GREGORIAN
METHOD:PUBLISH
X-ORIGINAL-URL:https://onecity.church
X-WR-CALDESC:Events for One City Church
REFRESH-INTERVAL;VALUE=DURATION:PT1H
X-Robots-Tag:noindex
X-PUBLISHED-TTL:PT1H
BEGIN:VTIMEZONE
TZID:America/Chicago
BEGIN:DAYLIGHT
TZOFFSETFROM:-0600
TZOFFSETTO:-0500
TZNAME:CDT
DTSTART:20200308T080000
END:DAYLIGHT
BEGIN:STANDARD
TZOFFSETFROM:-0500
TZOFFSETTO:-0600
TZNAME:CST
DTSTART:20201101T070000
END:STANDARD
BEGIN:DAYLIGHT
TZOFFSETFROM:-0600
TZOFFSETTO:-0500
TZNAME:CDT
DTSTART:20210314T080000
END:DAYLIGHT
BEGIN:STANDARD
TZOFFSETFROM:-0500
TZOFFSETTO:-0600
TZNAME:CST
DTSTART:20211107T070000
END:STANDARD
BEGIN:DAYLIGHT
TZOFFSETFROM:-0600
TZOFFSETTO:-0500
TZNAME:CDT
DTSTART:20220313T080000
END:DAYLIGHT
BEGIN:STANDARD
TZOFFSETFROM:-0500
TZOFFSETTO:-0600
TZNAME:CST
DTSTART:20221106T070000
END:STANDARD
END:VTIMEZONE
BEGIN:VEVENT
DTSTART;TZID=America/Chicago:20211208T183000
DTEND;TZID=America/Chicago:20211208T210000
DTSTAMP:20260424T220253
CREATED:20211117T161949Z
LAST-MODIFIED:20211117T161949Z
UID:10001278-1638988200-1638997200@onecity.church
SUMMARY:Special Guest Speaker - Daniel Cabrera
DESCRIPTION:Join us for a special night of ministry with Evangelist Daniel Cabrera\, Wednesday Night\, December 8th at 6:30pm in the Main Sanctuary. Daniel has a powerful prophetic ministry and our church is always blessed when he visits. Make sure to join us for this joint service with One City Español.
URL:https://onecity.church/event/special-guest-speaker-daniel-cabrera/
LOCATION:Main Sanctuary\, 2350 Eastex Freeway\, Beaumont\, TX\, 77703\, United States
CATEGORIES:Community Event,December Events
END:VEVENT
BEGIN:VEVENT
DTSTART;TZID=America/Chicago:20211205T100000
DTEND;TZID=America/Chicago:20211205T123000
DTSTAMP:20260424T220253
CREATED:20210528T204117Z
LAST-MODIFIED:20210711T144449Z
UID:10000820-1638698400-1638707400@onecity.church
SUMMARY:Sunday Morning Service
DESCRIPTION:ON CAMPUS & ONLINE\n[button color=”undefined” hover_text_color_override=”undefined” url=”/live” text=”Click Here To Watch Live” color_override=””]
URL:https://onecity.church/event/sunday-morning-service/2021-12-05/
LOCATION:Main Sanctuary\, 2350 Eastex Freeway\, Beaumont\, TX\, 77703\, United States
CATEGORIES:Church Wide
ORGANIZER;CN="One City Church":MAILTO:info@onecity.church
END:VEVENT
BEGIN:VEVENT
DTSTART;TZID=America/Chicago:20211128T100000
DTEND;TZID=America/Chicago:20211128T123000
DTSTAMP:20260424T220253
CREATED:20210528T204117Z
LAST-MODIFIED:20210711T144449Z
UID:10000819-1638093600-1638102600@onecity.church
SUMMARY:Sunday Morning Service
DESCRIPTION:ON CAMPUS & ONLINE\n[button color=”undefined” hover_text_color_override=”undefined” url=”/live” text=”Click Here To Watch Live” color_override=””]
URL:https://onecity.church/event/sunday-morning-service/2021-11-28/
LOCATION:Main Sanctuary\, 2350 Eastex Freeway\, Beaumont\, TX\, 77703\, United States
CATEGORIES:Church Wide
ORGANIZER;CN="One City Church":MAILTO:info@onecity.church
END:VEVENT
BEGIN:VEVENT
DTSTART;TZID=America/Chicago:20211121T100000
DTEND;TZID=America/Chicago:20211121T123000
DTSTAMP:20260424T220253
CREATED:20210528T204117Z
LAST-MODIFIED:20210711T144449Z
UID:10000818-1637488800-1637497800@onecity.church
SUMMARY:Sunday Morning Service
DESCRIPTION:ON CAMPUS & ONLINE\n[button color=”undefined” hover_text_color_override=”undefined” url=”/live” text=”Click Here To Watch Live” color_override=””]
URL:https://onecity.church/event/sunday-morning-service/2021-11-21/
LOCATION:Main Sanctuary\, 2350 Eastex Freeway\, Beaumont\, TX\, 77703\, United States
CATEGORIES:Church Wide
ORGANIZER;CN="One City Church":MAILTO:info@onecity.church
END:VEVENT
BEGIN:VEVENT
DTSTART;TZID=America/Chicago:20211114T100000
DTEND;TZID=America/Chicago:20211114T123000
DTSTAMP:20260424T220253
CREATED:20210528T204117Z
LAST-MODIFIED:20210711T144449Z
UID:10000817-1636884000-1636893000@onecity.church
SUMMARY:Sunday Morning Service
DESCRIPTION:ON CAMPUS & ONLINE\n[button color=”undefined” hover_text_color_override=”undefined” url=”/live” text=”Click Here To Watch Live” color_override=””]
URL:https://onecity.church/event/sunday-morning-service/2021-11-14/
LOCATION:Main Sanctuary\, 2350 Eastex Freeway\, Beaumont\, TX\, 77703\, United States
CATEGORIES:Church Wide
ORGANIZER;CN="One City Church":MAILTO:info@onecity.church
END:VEVENT
BEGIN:VEVENT
DTSTART;TZID=America/Chicago:20211107T100000
DTEND;TZID=America/Chicago:20211107T123000
DTSTAMP:20260424T220253
CREATED:20210528T204117Z
LAST-MODIFIED:20210711T144449Z
UID:10000816-1636279200-1636288200@onecity.church
SUMMARY:Sunday Morning Service
DESCRIPTION:ON CAMPUS & ONLINE\n[button color=”undefined” hover_text_color_override=”undefined” url=”/live” text=”Click Here To Watch Live” color_override=””]
URL:https://onecity.church/event/sunday-morning-service/2021-11-07/
LOCATION:Main Sanctuary\, 2350 Eastex Freeway\, Beaumont\, TX\, 77703\, United States
CATEGORIES:Church Wide
ORGANIZER;CN="One City Church":MAILTO:info@onecity.church
END:VEVENT
BEGIN:VEVENT
DTSTART;TZID=America/Chicago:20211031T100000
DTEND;TZID=America/Chicago:20211031T123000
DTSTAMP:20260424T220253
CREATED:20210528T204117Z
LAST-MODIFIED:20210711T144449Z
UID:10000815-1635674400-1635683400@onecity.church
SUMMARY:Sunday Morning Service
DESCRIPTION:ON CAMPUS & ONLINE\n[button color=”undefined” hover_text_color_override=”undefined” url=”/live” text=”Click Here To Watch Live” color_override=””]
URL:https://onecity.church/event/sunday-morning-service/2021-10-31/
LOCATION:Main Sanctuary\, 2350 Eastex Freeway\, Beaumont\, TX\, 77703\, United States
CATEGORIES:Church Wide
ORGANIZER;CN="One City Church":MAILTO:info@onecity.church
END:VEVENT
BEGIN:VEVENT
DTSTART;TZID=America/Chicago:20211024T100000
DTEND;TZID=America/Chicago:20211024T123000
DTSTAMP:20260424T220253
CREATED:20210528T204117Z
LAST-MODIFIED:20210711T144449Z
UID:10000814-1635069600-1635078600@onecity.church
SUMMARY:Sunday Morning Service
DESCRIPTION:ON CAMPUS & ONLINE\n[button color=”undefined” hover_text_color_override=”undefined” url=”/live” text=”Click Here To Watch Live” color_override=””]
URL:https://onecity.church/event/sunday-morning-service/2021-10-24/
LOCATION:Main Sanctuary\, 2350 Eastex Freeway\, Beaumont\, TX\, 77703\, United States
CATEGORIES:Church Wide
ORGANIZER;CN="One City Church":MAILTO:info@onecity.church
END:VEVENT
BEGIN:VEVENT
DTSTART;TZID=America/Chicago:20211017T100000
DTEND;TZID=America/Chicago:20211017T123000
DTSTAMP:20260424T220253
CREATED:20210528T204117Z
LAST-MODIFIED:20210711T144449Z
UID:10000813-1634464800-1634473800@onecity.church
SUMMARY:Sunday Morning Service
DESCRIPTION:ON CAMPUS & ONLINE\n[button color=”undefined” hover_text_color_override=”undefined” url=”/live” text=”Click Here To Watch Live” color_override=””]
URL:https://onecity.church/event/sunday-morning-service/2021-10-17/
LOCATION:Main Sanctuary\, 2350 Eastex Freeway\, Beaumont\, TX\, 77703\, United States
CATEGORIES:Church Wide
ORGANIZER;CN="One City Church":MAILTO:info@onecity.church
END:VEVENT
BEGIN:VEVENT
DTSTART;TZID=America/Chicago:20211010T100000
DTEND;TZID=America/Chicago:20211010T123000
DTSTAMP:20260424T220253
CREATED:20210528T204117Z
LAST-MODIFIED:20210711T144449Z
UID:10000812-1633860000-1633869000@onecity.church
SUMMARY:Sunday Morning Service
DESCRIPTION:ON CAMPUS & ONLINE\n[button color=”undefined” hover_text_color_override=”undefined” url=”/live” text=”Click Here To Watch Live” color_override=””]
URL:https://onecity.church/event/sunday-morning-service/2021-10-10/
LOCATION:Main Sanctuary\, 2350 Eastex Freeway\, Beaumont\, TX\, 77703\, United States
CATEGORIES:Church Wide
ORGANIZER;CN="One City Church":MAILTO:info@onecity.church
END:VEVENT
BEGIN:VEVENT
DTSTART;TZID=America/Chicago:20211003T100000
DTEND;TZID=America/Chicago:20211003T123000
DTSTAMP:20260424T220253
CREATED:20210528T204117Z
LAST-MODIFIED:20210711T144449Z
UID:10000811-1633255200-1633264200@onecity.church
SUMMARY:Sunday Morning Service
DESCRIPTION:ON CAMPUS & ONLINE\n[button color=”undefined” hover_text_color_override=”undefined” url=”/live” text=”Click Here To Watch Live” color_override=””]
URL:https://onecity.church/event/sunday-morning-service/2021-10-03/
LOCATION:Main Sanctuary\, 2350 Eastex Freeway\, Beaumont\, TX\, 77703\, United States
CATEGORIES:Church Wide
ORGANIZER;CN="One City Church":MAILTO:info@onecity.church
END:VEVENT
BEGIN:VEVENT
DTSTART;TZID=America/Chicago:20210926T100000
DTEND;TZID=America/Chicago:20210926T123000
DTSTAMP:20260424T220253
CREATED:20210528T204117Z
LAST-MODIFIED:20210711T144449Z
UID:10000810-1632650400-1632659400@onecity.church
SUMMARY:Sunday Morning Service
DESCRIPTION:ON CAMPUS & ONLINE\n[button color=”undefined” hover_text_color_override=”undefined” url=”/live” text=”Click Here To Watch Live” color_override=””]
URL:https://onecity.church/event/sunday-morning-service/2021-09-26/
LOCATION:Main Sanctuary\, 2350 Eastex Freeway\, Beaumont\, TX\, 77703\, United States
CATEGORIES:Church Wide
ORGANIZER;CN="One City Church":MAILTO:info@onecity.church
END:VEVENT
BEGIN:VEVENT
DTSTART;TZID=America/Chicago:20210919T100000
DTEND;TZID=America/Chicago:20210919T123000
DTSTAMP:20260424T220253
CREATED:20210528T204117Z
LAST-MODIFIED:20210711T144449Z
UID:10000809-1632045600-1632054600@onecity.church
SUMMARY:Sunday Morning Service
DESCRIPTION:ON CAMPUS & ONLINE\n[button color=”undefined” hover_text_color_override=”undefined” url=”/live” text=”Click Here To Watch Live” color_override=””]
URL:https://onecity.church/event/sunday-morning-service/2021-09-19/
LOCATION:Main Sanctuary\, 2350 Eastex Freeway\, Beaumont\, TX\, 77703\, United States
CATEGORIES:Church Wide
ORGANIZER;CN="One City Church":MAILTO:info@onecity.church
END:VEVENT
BEGIN:VEVENT
DTSTART;TZID=America/Chicago:20210912T100000
DTEND;TZID=America/Chicago:20210912T123000
DTSTAMP:20260424T220253
CREATED:20210528T204117Z
LAST-MODIFIED:20210711T144449Z
UID:10000808-1631440800-1631449800@onecity.church
SUMMARY:Sunday Morning Service
DESCRIPTION:ON CAMPUS & ONLINE\n[button color=”undefined” hover_text_color_override=”undefined” url=”/live” text=”Click Here To Watch Live” color_override=””]
URL:https://onecity.church/event/sunday-morning-service/2021-09-12/
LOCATION:Main Sanctuary\, 2350 Eastex Freeway\, Beaumont\, TX\, 77703\, United States
CATEGORIES:Church Wide
ORGANIZER;CN="One City Church":MAILTO:info@onecity.church
END:VEVENT
BEGIN:VEVENT
DTSTART;TZID=America/Chicago:20210905T100000
DTEND;TZID=America/Chicago:20210905T123000
DTSTAMP:20260424T220253
CREATED:20210528T204117Z
LAST-MODIFIED:20210711T144449Z
UID:10000807-1630836000-1630845000@onecity.church
SUMMARY:Sunday Morning Service
DESCRIPTION:ON CAMPUS & ONLINE\n[button color=”undefined” hover_text_color_override=”undefined” url=”/live” text=”Click Here To Watch Live” color_override=””]
URL:https://onecity.church/event/sunday-morning-service/2021-09-05/
LOCATION:Main Sanctuary\, 2350 Eastex Freeway\, Beaumont\, TX\, 77703\, United States
CATEGORIES:Church Wide
ORGANIZER;CN="One City Church":MAILTO:info@onecity.church
END:VEVENT
BEGIN:VEVENT
DTSTART;TZID=America/Chicago:20210829T100000
DTEND;TZID=America/Chicago:20210829T123000
DTSTAMP:20260424T220253
CREATED:20210528T204117Z
LAST-MODIFIED:20210711T144449Z
UID:10000806-1630231200-1630240200@onecity.church
SUMMARY:Sunday Morning Service
DESCRIPTION:ON CAMPUS & ONLINE\n[button color=”undefined” hover_text_color_override=”undefined” url=”/live” text=”Click Here To Watch Live” color_override=””]
URL:https://onecity.church/event/sunday-morning-service/2021-08-29/
LOCATION:Main Sanctuary\, 2350 Eastex Freeway\, Beaumont\, TX\, 77703\, United States
CATEGORIES:Church Wide
ORGANIZER;CN="One City Church":MAILTO:info@onecity.church
END:VEVENT
BEGIN:VEVENT
DTSTART;TZID=America/Chicago:20210822T100000
DTEND;TZID=America/Chicago:20210822T123000
DTSTAMP:20260424T220253
CREATED:20210528T204117Z
LAST-MODIFIED:20210711T144449Z
UID:10000805-1629626400-1629635400@onecity.church
SUMMARY:Sunday Morning Service
DESCRIPTION:ON CAMPUS & ONLINE\n[button color=”undefined” hover_text_color_override=”undefined” url=”/live” text=”Click Here To Watch Live” color_override=””]
URL:https://onecity.church/event/sunday-morning-service/2021-08-22/
LOCATION:Main Sanctuary\, 2350 Eastex Freeway\, Beaumont\, TX\, 77703\, United States
CATEGORIES:Church Wide
ORGANIZER;CN="One City Church":MAILTO:info@onecity.church
END:VEVENT
BEGIN:VEVENT
DTSTART;TZID=America/Chicago:20210815T100000
DTEND;TZID=America/Chicago:20210815T123000
DTSTAMP:20260424T220253
CREATED:20210528T204117Z
LAST-MODIFIED:20210711T144449Z
UID:10000804-1629021600-1629030600@onecity.church
SUMMARY:Sunday Morning Service
DESCRIPTION:ON CAMPUS & ONLINE\n[button color=”undefined” hover_text_color_override=”undefined” url=”/live” text=”Click Here To Watch Live” color_override=””]
URL:https://onecity.church/event/sunday-morning-service/2021-08-15/
LOCATION:Main Sanctuary\, 2350 Eastex Freeway\, Beaumont\, TX\, 77703\, United States
CATEGORIES:Church Wide
ORGANIZER;CN="One City Church":MAILTO:info@onecity.church
END:VEVENT
BEGIN:VEVENT
DTSTART;TZID=America/Chicago:20210808T100000
DTEND;TZID=America/Chicago:20210808T123000
DTSTAMP:20260424T220253
CREATED:20210528T204117Z
LAST-MODIFIED:20210711T144449Z
UID:10000803-1628416800-1628425800@onecity.church
SUMMARY:Sunday Morning Service
DESCRIPTION:ON CAMPUS & ONLINE\n[button color=”undefined” hover_text_color_override=”undefined” url=”/live” text=”Click Here To Watch Live” color_override=””]
URL:https://onecity.church/event/sunday-morning-service/2021-08-08/
LOCATION:Main Sanctuary\, 2350 Eastex Freeway\, Beaumont\, TX\, 77703\, United States
CATEGORIES:Church Wide
ORGANIZER;CN="One City Church":MAILTO:info@onecity.church
END:VEVENT
BEGIN:VEVENT
DTSTART;TZID=America/Chicago:20210801T100000
DTEND;TZID=America/Chicago:20210801T123000
DTSTAMP:20260424T220253
CREATED:20210528T204117Z
LAST-MODIFIED:20210711T144449Z
UID:10000802-1627812000-1627821000@onecity.church
SUMMARY:Sunday Morning Service
DESCRIPTION:ON CAMPUS & ONLINE\n[button color=”undefined” hover_text_color_override=”undefined” url=”/live” text=”Click Here To Watch Live” color_override=””]
URL:https://onecity.church/event/sunday-morning-service/2021-08-01/
LOCATION:Main Sanctuary\, 2350 Eastex Freeway\, Beaumont\, TX\, 77703\, United States
CATEGORIES:Church Wide
ORGANIZER;CN="One City Church":MAILTO:info@onecity.church
END:VEVENT
BEGIN:VEVENT
DTSTART;TZID=America/Chicago:20210728T183000
DTEND;TZID=America/Chicago:20210728T200000
DTSTAMP:20260424T220253
CREATED:20210706T143447Z
LAST-MODIFIED:20210706T143447Z
UID:10001228-1627497000-1627502400@onecity.church
SUMMARY:Back to School Prep Rally
DESCRIPTION:Join us in the Sanctuary as we rally around our Children\, Youth and fellow teachers and administrative faculty to pray over and into this new school year. It’s time to call down heaven in our school systems and see our children emboldened to preach the gospel. We will see you there!
URL:https://onecity.church/event/back-to-school-prep-rally/
LOCATION:Main Sanctuary\, 2350 Eastex Freeway\, Beaumont\, TX\, 77703\, United States
CATEGORIES:Church Wide,Kids Events,Summer,Youth Events
ORGANIZER;CN="One City Church":MAILTO:info@onecity.church
END:VEVENT
BEGIN:VEVENT
DTSTART;TZID=America/Chicago:20210725T100000
DTEND;TZID=America/Chicago:20210725T123000
DTSTAMP:20260424T220253
CREATED:20210528T204117Z
LAST-MODIFIED:20210711T144449Z
UID:10000801-1627207200-1627216200@onecity.church
SUMMARY:Sunday Morning Service
DESCRIPTION:ON CAMPUS & ONLINE\n[button color=”undefined” hover_text_color_override=”undefined” url=”/live” text=”Click Here To Watch Live” color_override=””]
URL:https://onecity.church/event/sunday-morning-service/2021-07-25/
LOCATION:Main Sanctuary\, 2350 Eastex Freeway\, Beaumont\, TX\, 77703\, United States
CATEGORIES:Church Wide
ORGANIZER;CN="One City Church":MAILTO:info@onecity.church
END:VEVENT
BEGIN:VEVENT
DTSTART;TZID=America/Chicago:20210718T100000
DTEND;TZID=America/Chicago:20210718T123000
DTSTAMP:20260424T220253
CREATED:20210528T204117Z
LAST-MODIFIED:20210711T144449Z
UID:10000800-1626602400-1626611400@onecity.church
SUMMARY:Sunday Morning Service
DESCRIPTION:ON CAMPUS & ONLINE\n[button color=”undefined” hover_text_color_override=”undefined” url=”/live” text=”Click Here To Watch Live” color_override=””]
URL:https://onecity.church/event/sunday-morning-service/2021-07-18/
LOCATION:Main Sanctuary\, 2350 Eastex Freeway\, Beaumont\, TX\, 77703\, United States
CATEGORIES:Church Wide
ORGANIZER;CN="One City Church":MAILTO:info@onecity.church
END:VEVENT
BEGIN:VEVENT
DTSTART;TZID=America/Chicago:20210711T100000
DTEND;TZID=America/Chicago:20210711T123000
DTSTAMP:20260424T220253
CREATED:20210528T204117Z
LAST-MODIFIED:20210711T144449Z
UID:10000799-1625997600-1626006600@onecity.church
SUMMARY:Sunday Morning Service
DESCRIPTION:ON CAMPUS & ONLINE\n[button color=”undefined” hover_text_color_override=”undefined” url=”/live” text=”Click Here To Watch Live” color_override=””]
URL:https://onecity.church/event/sunday-morning-service/2021-07-11/
LOCATION:Main Sanctuary\, 2350 Eastex Freeway\, Beaumont\, TX\, 77703\, United States
CATEGORIES:Church Wide
ORGANIZER;CN="One City Church":MAILTO:info@onecity.church
END:VEVENT
BEGIN:VEVENT
DTSTART;TZID=America/Chicago:20210704T100000
DTEND;TZID=America/Chicago:20210704T123000
DTSTAMP:20260424T220253
CREATED:20210528T204117Z
LAST-MODIFIED:20210711T144449Z
UID:10000798-1625392800-1625401800@onecity.church
SUMMARY:Sunday Morning Service
DESCRIPTION:ON CAMPUS & ONLINE\n[button color=”undefined” hover_text_color_override=”undefined” url=”/live” text=”Click Here To Watch Live” color_override=””]
URL:https://onecity.church/event/sunday-morning-service/2021-07-04/
LOCATION:Main Sanctuary\, 2350 Eastex Freeway\, Beaumont\, TX\, 77703\, United States
CATEGORIES:Church Wide
ORGANIZER;CN="One City Church":MAILTO:info@onecity.church
END:VEVENT
BEGIN:VEVENT
DTSTART;TZID=America/Chicago:20210630T183000
DTEND;TZID=America/Chicago:20210630T200000
DTSTAMP:20260424T220253
CREATED:20210618T155126Z
LAST-MODIFIED:20210618T155141Z
UID:10000848-1625077800-1625083200@onecity.church
SUMMARY:Prayer For The Nation
DESCRIPTION:Join us in the Sanctuary Wednesday\, June 30th at 6:30pm for a night of worship and prayer over our nation. This will be a powerful night you don’t want to miss. \nThere will be a family meal available from 5:15p-6:15p in the Event Center. We’re asking everyone to register weekly for these meals here: \n[button color=”undefined” hover_text_color_override=”undefined” url=”www.onecity.church/meals” text=”Register Here for Meals” color_override=””]\n  \n 
URL:https://onecity.church/event/prayer-for-the-nation/
LOCATION:Main Sanctuary\, 2350 Eastex Freeway\, Beaumont\, TX\, 77703\, United States
CATEGORIES:Church Wide,Summer
END:VEVENT
BEGIN:VEVENT
DTSTART;TZID=America/Chicago:20210627T100000
DTEND;TZID=America/Chicago:20210627T123000
DTSTAMP:20260424T220253
CREATED:20210528T204117Z
LAST-MODIFIED:20210711T144449Z
UID:10000797-1624788000-1624797000@onecity.church
SUMMARY:Sunday Morning Service
DESCRIPTION:ON CAMPUS & ONLINE\n[button color=”undefined” hover_text_color_override=”undefined” url=”/live” text=”Click Here To Watch Live” color_override=””]
URL:https://onecity.church/event/sunday-morning-service/2021-06-27/
LOCATION:Main Sanctuary\, 2350 Eastex Freeway\, Beaumont\, TX\, 77703\, United States
CATEGORIES:Church Wide
ORGANIZER;CN="One City Church":MAILTO:info@onecity.church
END:VEVENT
BEGIN:VEVENT
DTSTART;TZID=America/Chicago:20210625T130000
DTEND;TZID=America/Chicago:20210625T140000
DTSTAMP:20260424T220253
CREATED:20210625T133247Z
LAST-MODIFIED:20210625T133247Z
UID:10001224-1624626000-1624629600@onecity.church
SUMMARY:Memorial Service for W.L. Pate
DESCRIPTION:One City Church is honored to host the funeral of W.L. Pate today\, June 25th at 1 PM CST. If you are unable to attend in person\, we invite you to join us online at www.onecity.church/pate.
URL:https://onecity.church/event/memorial-service-for-w-l-pate/
LOCATION:Main Sanctuary\, 2350 Eastex Freeway\, Beaumont\, TX\, 77703\, United States
CATEGORIES:Community Event
END:VEVENT
BEGIN:VEVENT
DTSTART;TZID=America/Chicago:20210620T100000
DTEND;TZID=America/Chicago:20210620T123000
DTSTAMP:20260424T220253
CREATED:20210528T204117Z
LAST-MODIFIED:20210711T144449Z
UID:10000796-1624183200-1624192200@onecity.church
SUMMARY:Sunday Morning Service
DESCRIPTION:ON CAMPUS & ONLINE\n[button color=”undefined” hover_text_color_override=”undefined” url=”/live” text=”Click Here To Watch Live” color_override=””]
URL:https://onecity.church/event/sunday-morning-service/2021-06-20/
LOCATION:Main Sanctuary\, 2350 Eastex Freeway\, Beaumont\, TX\, 77703\, United States
CATEGORIES:Church Wide
ORGANIZER;CN="One City Church":MAILTO:info@onecity.church
END:VEVENT
BEGIN:VEVENT
DTSTART;TZID=America/Chicago:20210613T100000
DTEND;TZID=America/Chicago:20210613T123000
DTSTAMP:20260424T220253
CREATED:20210528T204117Z
LAST-MODIFIED:20210711T144449Z
UID:10000795-1623578400-1623587400@onecity.church
SUMMARY:Sunday Morning Service
DESCRIPTION:ON CAMPUS & ONLINE\n[button color=”undefined” hover_text_color_override=”undefined” url=”/live” text=”Click Here To Watch Live” color_override=””]
URL:https://onecity.church/event/sunday-morning-service/2021-06-13/
LOCATION:Main Sanctuary\, 2350 Eastex Freeway\, Beaumont\, TX\, 77703\, United States
CATEGORIES:Church Wide
ORGANIZER;CN="One City Church":MAILTO:info@onecity.church
END:VEVENT
END:VCALENDAR